BEGIN:VCALENDAR
VERSION:2.0
PRODID:-//Fraternity Club - ECPv6.15.12.2//NONSGML v1.0//EN
CALSCALE:GREGORIAN
METHOD:PUBLISH
X-WR-CALNAME:Fraternity Club
X-ORIGINAL-URL:https://www.fraternityclub.com.au
X-WR-CALDESC:Events for Fraternity Club
REFRESH-INTERVAL;VALUE=DURATION:PT1H
X-Robots-Tag:noindex
X-PUBLISHED-TTL:PT1H
BEGIN:VTIMEZONE
TZID:Australia/Sydney
BEGIN:STANDARD
TZOFFSETFROM:+1100
TZOFFSETTO:+1000
TZNAME:AEST
DTSTART:20250405T160000
END:STANDARD
BEGIN:DAYLIGHT
TZOFFSETFROM:+1000
TZOFFSETTO:+1100
TZNAME:AEDT
DTSTART:20251004T160000
END:DAYLIGHT
BEGIN:STANDARD
TZOFFSETFROM:+1100
TZOFFSETTO:+1000
TZNAME:AEST
DTSTART:20260404T160000
END:STANDARD
BEGIN:DAYLIGHT
TZOFFSETFROM:+1000
TZOFFSETTO:+1100
TZNAME:AEDT
DTSTART:20261003T160000
END:DAYLIGHT
BEGIN:STANDARD
TZOFFSETFROM:+1100
TZOFFSETTO:+1000
TZNAME:AEST
DTSTART:20270403T160000
END:STANDARD
BEGIN:DAYLIGHT
TZOFFSETFROM:+1000
TZOFFSETTO:+1100
TZNAME:AEDT
DTSTART:20271002T160000
END:DAYLIGHT
END:VTIMEZONE
BEGIN:VTIMEZONE
TZID:UTC
BEGIN:STANDARD
TZOFFSETFROM:+0000
TZOFFSETTO:+0000
TZNAME:UTC
DTSTART:20250101T000000
END:STANDARD
END:VTIMEZONE
BEGIN:VEVENT
DTSTART;TZID=Australia/Sydney:20260202T193000
DTEND;TZID=Australia/Sydney:20260202T213000
DTSTAMP:20260420T202110
CREATED:20250307T042128Z
LAST-MODIFIED:20251208T025624Z
UID:10001206-1770060600-1770067800@www.fraternityclub.com.au
SUMMARY:Monday Night Trivia
DESCRIPTION:Join us at The Frat every Monday night for Trivia in the main lounge! Free to play from 7:30pm with $200 worth of prizes up for grabs. \nPrizes include Frat Member Reward Points\, Food & Drink vouchers. \nSpread the word\, get your teams together and we’ll see you at The Frat ‼
URL:https://www.fraternityclub.com.au/event/monday-night-trivia/2026-02-02/
CATEGORIES:Events,Promotions,Weekly Events
ATTACH;FMTTYPE=image/jpeg:https://www.fraternityclub.com.au/wp-content/uploads/2025/03/FC_TRIVIA_SQ.jpg
END:VEVENT
BEGIN:VEVENT
DTSTART;TZID=Australia/Sydney:20260203T170000
DTEND;TZID=Australia/Sydney:20260203T210000
DTSTAMP:20260420T202110
CREATED:20250307T052159Z
LAST-MODIFIED:20251208T025624Z
UID:10001467-1770138000-1770152400@www.fraternityclub.com.au
SUMMARY:$17 Tuesday Pizza Special
DESCRIPTION:  \nEnjoy woodfired perfection at Il bene! Fresh ingredients\, crispy bases\, and that unmistakable smoky flavour – pure Pizza bliss! Join us for dinner and enjoy! \nBook a Table or Order takeaway online. 
URL:https://www.fraternityclub.com.au/event/17-tuesday-pizza-special/2026-02-03/
CATEGORIES:Events,Promotions,Weekly Events
ATTACH;FMTTYPE=image/jpeg:https://www.fraternityclub.com.au/wp-content/uploads/2025/03/FC_17-PIZZA-SPECIAL_SQ.jpg
END:VEVENT
BEGIN:VEVENT
DTSTART;TZID=Australia/Sydney:20260204T200000
DTEND;TZID=Australia/Sydney:20260204T203000
DTSTAMP:20260420T202110
CREATED:20251212T020313Z
LAST-MODIFIED:20251212T020358Z
UID:10002640-1770235200-1770237000@www.fraternityclub.com.au
SUMMARY:Joker Poker Charity Jackpot
DESCRIPTION:Midweek fun\, a growing jackpot\, and supporting a great local cause — Joker Poker Charity Jackpot is on every Wednesday night at The Fraternity Club. \nEach week\, players have the chance to draw the joker and take home the charity jackpot\, while helping us raise funds for Wollongong City Surf Life Saving Club — the volunteer legends who help keep our beaches safer. \nHow it works \n\nTickets available in club on Wednesdays\nHalf of every ticket sale goes into the jackpot\nThe other half is donated to Wollongong City Surf Life Saving Club\nA lucky ticket is drawn on the night for a chance to pick the joker and win the jackpot\nStarting Jackpot is $5000!\n\nWhen & Where \nEvery Wednesday \nDraw from 8:00pm \nThe Fraternity Club\, 11 Bourke St Fairy Meadow \nBring your friends\, enjoy a meal or drink\, and settle in for a fun night that’s all about community\, good times\, and the chance to win big. \n  \nTerms & Conditions Apply. \nThe Fraternity Club practices the responsible service of alcohol and encourages responsible gambling.
URL:https://www.fraternityclub.com.au/event/2195/2026-02-04/
CATEGORIES:Events,Promotions,Weekly Events
ATTACH;FMTTYPE=image/jpeg:https://www.fraternityclub.com.au/wp-content/uploads/2025/12/04122025021353-JokerPoker-EventSQ-TheFraternityClub.jpg
END:VEVENT
BEGIN:VEVENT
DTSTART;TZID=UTC:20260205T190000
DTEND;TZID=UTC:20260205T203000
DTSTAMP:20260420T202110
CREATED:20260108T224005Z
LAST-MODIFIED:20260420T001311Z
UID:10004019-1770318000-1770323400@www.fraternityclub.com.au
SUMMARY:Weekly Members Badge Draw
DESCRIPTION:Every Thursday night!\nNext Draw: $8 000 – 23rd April from 7pm \nStarting at $5\,000 and jackpots $1\,000 every week until we hit $10\,000. \n$5\,000 – $9\,000 prize draw format:\n7pm – 1st Draw\n7.30pm – 2nd Draw\n8pm – 3rd Draw\nIf not won\, 3 second chance winners will be selected from the virtual barrel to win $100 loyalty points. \n$10\,000 jackpot amount:\n7.30pm – 1st Draw\n8pm – 2nd Draw\n8.30pm – 3rd Draw\nIf not won\, 5 x $2000 second chance winners will be selected from the virtual barrel\, drawn at 8.35pm\, 8.40pm\, 8.45pm\, 8.50pm\, 8.55pm. \n*Terms and Conditions apply.
URL:https://www.fraternityclub.com.au/event/weekly-members-badge-draw-2-2-2/2026-02-05/
CATEGORIES:Promotions,Weekly Events
ATTACH;FMTTYPE=image/jpeg:https://www.fraternityclub.com.au/wp-content/uploads/2024/11/FC_MEMBERS-BADGE-DRAW_SQ4-2.jpg
END:VEVENT
BEGIN:VEVENT
DTSTART;TZID=Australia/Sydney:20260206T193000
DTEND;TZID=Australia/Sydney:20260206T200000
DTSTAMP:20260420T202110
CREATED:20250410T023035Z
LAST-MODIFIED:20251208T025623Z
UID:10002168-1770406200-1770408000@www.fraternityclub.com.au
SUMMARY:Friday Night Raffle
DESCRIPTION:  \nFriday nights just got tastier! Join us at The Frat for our legendary “Not just a meat” raffle! \nUp for grabs are vouchers for delicious\, top quality produce from Harley & Johns Seafood\, Passion in Fruit\, Illawarra Meat Co. plus\, Leisure Coast Fruit & Deli. \nDraw from 7.30pm \nA great way to end the week\, enjoy a meal\, and win yourself a weekend feast! \nBook your table now. \n 
URL:https://www.fraternityclub.com.au/event/friday-night-raffle/2026-02-06/
LOCATION:The Fraternity Club
CATEGORIES:Events,Promotions,Weekly Events
ATTACH;FMTTYPE=image/jpeg:https://www.fraternityclub.com.au/wp-content/uploads/2025/04/FC_MEAT-RAFFLE_SQ.jpg
END:VEVENT
BEGIN:VEVENT
DTSTART;TZID=Australia/Sydney:20260207T193000
DTEND;TZID=Australia/Sydney:20260207T233000
DTSTAMP:20260420T202110
CREATED:20260109T004814Z
LAST-MODIFIED:20260109T004814Z
UID:10003448-1770492600-1770507000@www.fraternityclub.com.au
SUMMARY:SATURDAY SOUNDS IN THE SUNKEN LOUNGE
DESCRIPTION:Saturday Sounds in the Sunken Lounge\nGet ready for a night of great music\, good vibes\, and dancing! \nJoin us every Saturday evening in the newly renovated Sunken Lounge for Saturday Sounds — featuring Illawarra’s most loved live bands. \nExperience high-energy hits\, upbeat funk\, and tunes that will have you on your feet all night long. With a rotating lineup of incredible local acts\, each week brings something fresh and exciting. \nSip on your favourite drink\, settle into the lounge’s stylish atmosphere\, and let the rhythm take over — your perfect Saturday night starts here. \nWhere: The Sunken LoungeWhen: Every Saturday from 7:30pmFree entry | All welcome
URL:https://www.fraternityclub.com.au/event/saturday-sounds-in-the-sunken-lounge-12/2026-02-07/
LOCATION:The Fraternity Club
CATEGORIES:Entertainment,Events,Live Music,Weekly Events
ATTACH;FMTTYPE=image/png:https://www.fraternityclub.com.au/wp-content/uploads/2026/01/SAT-SOUNDS-FEB-LINE-UP-.png
END:VEVENT
BEGIN:VEVENT
DTSTART;TZID=Australia/Sydney:20260209T193000
DTEND;TZID=Australia/Sydney:20260209T213000
DTSTAMP:20260420T202110
CREATED:20250307T042128Z
LAST-MODIFIED:20251208T025624Z
UID:10001207-1770665400-1770672600@www.fraternityclub.com.au
SUMMARY:Monday Night Trivia
DESCRIPTION:Join us at The Frat every Monday night for Trivia in the main lounge! Free to play from 7:30pm with $200 worth of prizes up for grabs. \nPrizes include Frat Member Reward Points\, Food & Drink vouchers. \nSpread the word\, get your teams together and we’ll see you at The Frat ‼
URL:https://www.fraternityclub.com.au/event/monday-night-trivia/2026-02-09/
CATEGORIES:Events,Promotions,Weekly Events
ATTACH;FMTTYPE=image/jpeg:https://www.fraternityclub.com.au/wp-content/uploads/2025/03/FC_TRIVIA_SQ.jpg
END:VEVENT
BEGIN:VEVENT
DTSTART;TZID=Australia/Sydney:20260210T170000
DTEND;TZID=Australia/Sydney:20260210T210000
DTSTAMP:20260420T202110
CREATED:20250307T052159Z
LAST-MODIFIED:20251208T025624Z
UID:10001468-1770742800-1770757200@www.fraternityclub.com.au
SUMMARY:$17 Tuesday Pizza Special
DESCRIPTION:  \nEnjoy woodfired perfection at Il bene! Fresh ingredients\, crispy bases\, and that unmistakable smoky flavour – pure Pizza bliss! Join us for dinner and enjoy! \nBook a Table or Order takeaway online. 
URL:https://www.fraternityclub.com.au/event/17-tuesday-pizza-special/2026-02-10/
CATEGORIES:Events,Promotions,Weekly Events
ATTACH;FMTTYPE=image/jpeg:https://www.fraternityclub.com.au/wp-content/uploads/2025/03/FC_17-PIZZA-SPECIAL_SQ.jpg
END:VEVENT
BEGIN:VEVENT
DTSTART;TZID=Australia/Sydney:20260211T200000
DTEND;TZID=Australia/Sydney:20260211T203000
DTSTAMP:20260420T202110
CREATED:20251212T020313Z
LAST-MODIFIED:20251212T020358Z
UID:10002641-1770840000-1770841800@www.fraternityclub.com.au
SUMMARY:Joker Poker Charity Jackpot
DESCRIPTION:Midweek fun\, a growing jackpot\, and supporting a great local cause — Joker Poker Charity Jackpot is on every Wednesday night at The Fraternity Club. \nEach week\, players have the chance to draw the joker and take home the charity jackpot\, while helping us raise funds for Wollongong City Surf Life Saving Club — the volunteer legends who help keep our beaches safer. \nHow it works \n\nTickets available in club on Wednesdays\nHalf of every ticket sale goes into the jackpot\nThe other half is donated to Wollongong City Surf Life Saving Club\nA lucky ticket is drawn on the night for a chance to pick the joker and win the jackpot\nStarting Jackpot is $5000!\n\nWhen & Where \nEvery Wednesday \nDraw from 8:00pm \nThe Fraternity Club\, 11 Bourke St Fairy Meadow \nBring your friends\, enjoy a meal or drink\, and settle in for a fun night that’s all about community\, good times\, and the chance to win big. \n  \nTerms & Conditions Apply. \nThe Fraternity Club practices the responsible service of alcohol and encourages responsible gambling.
URL:https://www.fraternityclub.com.au/event/2195/2026-02-11/
CATEGORIES:Events,Promotions,Weekly Events
ATTACH;FMTTYPE=image/jpeg:https://www.fraternityclub.com.au/wp-content/uploads/2025/12/04122025021353-JokerPoker-EventSQ-TheFraternityClub.jpg
END:VEVENT
BEGIN:VEVENT
DTSTART;TZID=UTC:20260212T190000
DTEND;TZID=UTC:20260212T203000
DTSTAMP:20260420T202110
CREATED:20260108T224005Z
LAST-MODIFIED:20260420T001311Z
UID:10004020-1770922800-1770928200@www.fraternityclub.com.au
SUMMARY:Weekly Members Badge Draw
DESCRIPTION:Every Thursday night!\nNext Draw: $8 000 – 23rd April from 7pm \nStarting at $5\,000 and jackpots $1\,000 every week until we hit $10\,000. \n$5\,000 – $9\,000 prize draw format:\n7pm – 1st Draw\n7.30pm – 2nd Draw\n8pm – 3rd Draw\nIf not won\, 3 second chance winners will be selected from the virtual barrel to win $100 loyalty points. \n$10\,000 jackpot amount:\n7.30pm – 1st Draw\n8pm – 2nd Draw\n8.30pm – 3rd Draw\nIf not won\, 5 x $2000 second chance winners will be selected from the virtual barrel\, drawn at 8.35pm\, 8.40pm\, 8.45pm\, 8.50pm\, 8.55pm. \n*Terms and Conditions apply.
URL:https://www.fraternityclub.com.au/event/weekly-members-badge-draw-2-2-2/2026-02-12/
CATEGORIES:Promotions,Weekly Events
ATTACH;FMTTYPE=image/jpeg:https://www.fraternityclub.com.au/wp-content/uploads/2024/11/FC_MEMBERS-BADGE-DRAW_SQ4-2.jpg
END:VEVENT
BEGIN:VEVENT
DTSTART;TZID=Australia/Sydney:20260213T193000
DTEND;TZID=Australia/Sydney:20260213T200000
DTSTAMP:20260420T202110
CREATED:20250410T023035Z
LAST-MODIFIED:20251208T025623Z
UID:10002169-1771011000-1771012800@www.fraternityclub.com.au
SUMMARY:Friday Night Raffle
DESCRIPTION:  \nFriday nights just got tastier! Join us at The Frat for our legendary “Not just a meat” raffle! \nUp for grabs are vouchers for delicious\, top quality produce from Harley & Johns Seafood\, Passion in Fruit\, Illawarra Meat Co. plus\, Leisure Coast Fruit & Deli. \nDraw from 7.30pm \nA great way to end the week\, enjoy a meal\, and win yourself a weekend feast! \nBook your table now. \n 
URL:https://www.fraternityclub.com.au/event/friday-night-raffle/2026-02-13/
LOCATION:The Fraternity Club
CATEGORIES:Events,Promotions,Weekly Events
ATTACH;FMTTYPE=image/jpeg:https://www.fraternityclub.com.au/wp-content/uploads/2025/04/FC_MEAT-RAFFLE_SQ.jpg
END:VEVENT
BEGIN:VEVENT
DTSTART;TZID=Australia/Sydney:20260214T193000
DTEND;TZID=Australia/Sydney:20260214T233000
DTSTAMP:20260420T202110
CREATED:20260109T004814Z
LAST-MODIFIED:20260109T004814Z
UID:10003449-1771097400-1771111800@www.fraternityclub.com.au
SUMMARY:SATURDAY SOUNDS IN THE SUNKEN LOUNGE
DESCRIPTION:Saturday Sounds in the Sunken Lounge\nGet ready for a night of great music\, good vibes\, and dancing! \nJoin us every Saturday evening in the newly renovated Sunken Lounge for Saturday Sounds — featuring Illawarra’s most loved live bands. \nExperience high-energy hits\, upbeat funk\, and tunes that will have you on your feet all night long. With a rotating lineup of incredible local acts\, each week brings something fresh and exciting. \nSip on your favourite drink\, settle into the lounge’s stylish atmosphere\, and let the rhythm take over — your perfect Saturday night starts here. \nWhere: The Sunken LoungeWhen: Every Saturday from 7:30pmFree entry | All welcome
URL:https://www.fraternityclub.com.au/event/saturday-sounds-in-the-sunken-lounge-12/2026-02-14/
LOCATION:The Fraternity Club
CATEGORIES:Entertainment,Events,Live Music,Weekly Events
ATTACH;FMTTYPE=image/png:https://www.fraternityclub.com.au/wp-content/uploads/2026/01/SAT-SOUNDS-FEB-LINE-UP-.png
END:VEVENT
BEGIN:VEVENT
DTSTART;TZID=Australia/Sydney:20260216T193000
DTEND;TZID=Australia/Sydney:20260216T213000
DTSTAMP:20260420T202110
CREATED:20250307T042128Z
LAST-MODIFIED:20251208T025624Z
UID:10001208-1771270200-1771277400@www.fraternityclub.com.au
SUMMARY:Monday Night Trivia
DESCRIPTION:Join us at The Frat every Monday night for Trivia in the main lounge! Free to play from 7:30pm with $200 worth of prizes up for grabs. \nPrizes include Frat Member Reward Points\, Food & Drink vouchers. \nSpread the word\, get your teams together and we’ll see you at The Frat ‼
URL:https://www.fraternityclub.com.au/event/monday-night-trivia/2026-02-16/
CATEGORIES:Events,Promotions,Weekly Events
ATTACH;FMTTYPE=image/jpeg:https://www.fraternityclub.com.au/wp-content/uploads/2025/03/FC_TRIVIA_SQ.jpg
END:VEVENT
BEGIN:VEVENT
DTSTART;TZID=Australia/Sydney:20260217T170000
DTEND;TZID=Australia/Sydney:20260217T210000
DTSTAMP:20260420T202110
CREATED:20250307T052159Z
LAST-MODIFIED:20251208T025624Z
UID:10001469-1771347600-1771362000@www.fraternityclub.com.au
SUMMARY:$17 Tuesday Pizza Special
DESCRIPTION:  \nEnjoy woodfired perfection at Il bene! Fresh ingredients\, crispy bases\, and that unmistakable smoky flavour – pure Pizza bliss! Join us for dinner and enjoy! \nBook a Table or Order takeaway online. 
URL:https://www.fraternityclub.com.au/event/17-tuesday-pizza-special/2026-02-17/
CATEGORIES:Events,Promotions,Weekly Events
ATTACH;FMTTYPE=image/jpeg:https://www.fraternityclub.com.au/wp-content/uploads/2025/03/FC_17-PIZZA-SPECIAL_SQ.jpg
END:VEVENT
BEGIN:VEVENT
DTSTART;TZID=Australia/Sydney:20260218T200000
DTEND;TZID=Australia/Sydney:20260218T203000
DTSTAMP:20260420T202110
CREATED:20251212T020313Z
LAST-MODIFIED:20251212T020358Z
UID:10002642-1771444800-1771446600@www.fraternityclub.com.au
SUMMARY:Joker Poker Charity Jackpot
DESCRIPTION:Midweek fun\, a growing jackpot\, and supporting a great local cause — Joker Poker Charity Jackpot is on every Wednesday night at The Fraternity Club. \nEach week\, players have the chance to draw the joker and take home the charity jackpot\, while helping us raise funds for Wollongong City Surf Life Saving Club — the volunteer legends who help keep our beaches safer. \nHow it works \n\nTickets available in club on Wednesdays\nHalf of every ticket sale goes into the jackpot\nThe other half is donated to Wollongong City Surf Life Saving Club\nA lucky ticket is drawn on the night for a chance to pick the joker and win the jackpot\nStarting Jackpot is $5000!\n\nWhen & Where \nEvery Wednesday \nDraw from 8:00pm \nThe Fraternity Club\, 11 Bourke St Fairy Meadow \nBring your friends\, enjoy a meal or drink\, and settle in for a fun night that’s all about community\, good times\, and the chance to win big. \n  \nTerms & Conditions Apply. \nThe Fraternity Club practices the responsible service of alcohol and encourages responsible gambling.
URL:https://www.fraternityclub.com.au/event/2195/2026-02-18/
CATEGORIES:Events,Promotions,Weekly Events
ATTACH;FMTTYPE=image/jpeg:https://www.fraternityclub.com.au/wp-content/uploads/2025/12/04122025021353-JokerPoker-EventSQ-TheFraternityClub.jpg
END:VEVENT
BEGIN:VEVENT
DTSTART;TZID=UTC:20260219T190000
DTEND;TZID=UTC:20260219T203000
DTSTAMP:20260420T202110
CREATED:20260108T224005Z
LAST-MODIFIED:20260420T001311Z
UID:10004021-1771527600-1771533000@www.fraternityclub.com.au
SUMMARY:Weekly Members Badge Draw
DESCRIPTION:Every Thursday night!\nNext Draw: $8 000 – 23rd April from 7pm \nStarting at $5\,000 and jackpots $1\,000 every week until we hit $10\,000. \n$5\,000 – $9\,000 prize draw format:\n7pm – 1st Draw\n7.30pm – 2nd Draw\n8pm – 3rd Draw\nIf not won\, 3 second chance winners will be selected from the virtual barrel to win $100 loyalty points. \n$10\,000 jackpot amount:\n7.30pm – 1st Draw\n8pm – 2nd Draw\n8.30pm – 3rd Draw\nIf not won\, 5 x $2000 second chance winners will be selected from the virtual barrel\, drawn at 8.35pm\, 8.40pm\, 8.45pm\, 8.50pm\, 8.55pm. \n*Terms and Conditions apply.
URL:https://www.fraternityclub.com.au/event/weekly-members-badge-draw-2-2-2/2026-02-19/
CATEGORIES:Promotions,Weekly Events
ATTACH;FMTTYPE=image/jpeg:https://www.fraternityclub.com.au/wp-content/uploads/2024/11/FC_MEMBERS-BADGE-DRAW_SQ4-2.jpg
END:VEVENT
BEGIN:VEVENT
DTSTART;TZID=Australia/Sydney:20260220T193000
DTEND;TZID=Australia/Sydney:20260220T200000
DTSTAMP:20260420T202110
CREATED:20250410T023035Z
LAST-MODIFIED:20251208T025623Z
UID:10002170-1771615800-1771617600@www.fraternityclub.com.au
SUMMARY:Friday Night Raffle
DESCRIPTION:  \nFriday nights just got tastier! Join us at The Frat for our legendary “Not just a meat” raffle! \nUp for grabs are vouchers for delicious\, top quality produce from Harley & Johns Seafood\, Passion in Fruit\, Illawarra Meat Co. plus\, Leisure Coast Fruit & Deli. \nDraw from 7.30pm \nA great way to end the week\, enjoy a meal\, and win yourself a weekend feast! \nBook your table now. \n 
URL:https://www.fraternityclub.com.au/event/friday-night-raffle/2026-02-20/
LOCATION:The Fraternity Club
CATEGORIES:Events,Promotions,Weekly Events
ATTACH;FMTTYPE=image/jpeg:https://www.fraternityclub.com.au/wp-content/uploads/2025/04/FC_MEAT-RAFFLE_SQ.jpg
END:VEVENT
BEGIN:VEVENT
DTSTART;TZID=Australia/Sydney:20260221T193000
DTEND;TZID=Australia/Sydney:20260221T233000
DTSTAMP:20260420T202110
CREATED:20260109T004814Z
LAST-MODIFIED:20260109T004814Z
UID:10003450-1771702200-1771716600@www.fraternityclub.com.au
SUMMARY:SATURDAY SOUNDS IN THE SUNKEN LOUNGE
DESCRIPTION:Saturday Sounds in the Sunken Lounge\nGet ready for a night of great music\, good vibes\, and dancing! \nJoin us every Saturday evening in the newly renovated Sunken Lounge for Saturday Sounds — featuring Illawarra’s most loved live bands. \nExperience high-energy hits\, upbeat funk\, and tunes that will have you on your feet all night long. With a rotating lineup of incredible local acts\, each week brings something fresh and exciting. \nSip on your favourite drink\, settle into the lounge’s stylish atmosphere\, and let the rhythm take over — your perfect Saturday night starts here. \nWhere: The Sunken LoungeWhen: Every Saturday from 7:30pmFree entry | All welcome
URL:https://www.fraternityclub.com.au/event/saturday-sounds-in-the-sunken-lounge-12/2026-02-21/
LOCATION:The Fraternity Club
CATEGORIES:Entertainment,Events,Live Music,Weekly Events
ATTACH;FMTTYPE=image/png:https://www.fraternityclub.com.au/wp-content/uploads/2026/01/SAT-SOUNDS-FEB-LINE-UP-.png
END:VEVENT
BEGIN:VEVENT
DTSTART;TZID=Australia/Sydney:20260223T193000
DTEND;TZID=Australia/Sydney:20260223T213000
DTSTAMP:20260420T202110
CREATED:20250307T042128Z
LAST-MODIFIED:20251208T025624Z
UID:10001209-1771875000-1771882200@www.fraternityclub.com.au
SUMMARY:Monday Night Trivia
DESCRIPTION:Join us at The Frat every Monday night for Trivia in the main lounge! Free to play from 7:30pm with $200 worth of prizes up for grabs. \nPrizes include Frat Member Reward Points\, Food & Drink vouchers. \nSpread the word\, get your teams together and we’ll see you at The Frat ‼
URL:https://www.fraternityclub.com.au/event/monday-night-trivia/2026-02-23/
CATEGORIES:Events,Promotions,Weekly Events
ATTACH;FMTTYPE=image/jpeg:https://www.fraternityclub.com.au/wp-content/uploads/2025/03/FC_TRIVIA_SQ.jpg
END:VEVENT
BEGIN:VEVENT
DTSTART;TZID=Australia/Sydney:20260224T170000
DTEND;TZID=Australia/Sydney:20260224T210000
DTSTAMP:20260420T202110
CREATED:20250307T052159Z
LAST-MODIFIED:20251208T025624Z
UID:10001470-1771952400-1771966800@www.fraternityclub.com.au
SUMMARY:$17 Tuesday Pizza Special
DESCRIPTION:  \nEnjoy woodfired perfection at Il bene! Fresh ingredients\, crispy bases\, and that unmistakable smoky flavour – pure Pizza bliss! Join us for dinner and enjoy! \nBook a Table or Order takeaway online. 
URL:https://www.fraternityclub.com.au/event/17-tuesday-pizza-special/2026-02-24/
CATEGORIES:Events,Promotions,Weekly Events
ATTACH;FMTTYPE=image/jpeg:https://www.fraternityclub.com.au/wp-content/uploads/2025/03/FC_17-PIZZA-SPECIAL_SQ.jpg
END:VEVENT
BEGIN:VEVENT
DTSTART;TZID=Australia/Sydney:20260225T200000
DTEND;TZID=Australia/Sydney:20260225T203000
DTSTAMP:20260420T202110
CREATED:20251212T020313Z
LAST-MODIFIED:20251212T020358Z
UID:10002643-1772049600-1772051400@www.fraternityclub.com.au
SUMMARY:Joker Poker Charity Jackpot
DESCRIPTION:Midweek fun\, a growing jackpot\, and supporting a great local cause — Joker Poker Charity Jackpot is on every Wednesday night at The Fraternity Club. \nEach week\, players have the chance to draw the joker and take home the charity jackpot\, while helping us raise funds for Wollongong City Surf Life Saving Club — the volunteer legends who help keep our beaches safer. \nHow it works \n\nTickets available in club on Wednesdays\nHalf of every ticket sale goes into the jackpot\nThe other half is donated to Wollongong City Surf Life Saving Club\nA lucky ticket is drawn on the night for a chance to pick the joker and win the jackpot\nStarting Jackpot is $5000!\n\nWhen & Where \nEvery Wednesday \nDraw from 8:00pm \nThe Fraternity Club\, 11 Bourke St Fairy Meadow \nBring your friends\, enjoy a meal or drink\, and settle in for a fun night that’s all about community\, good times\, and the chance to win big. \n  \nTerms & Conditions Apply. \nThe Fraternity Club practices the responsible service of alcohol and encourages responsible gambling.
URL:https://www.fraternityclub.com.au/event/2195/2026-02-25/
CATEGORIES:Events,Promotions,Weekly Events
ATTACH;FMTTYPE=image/jpeg:https://www.fraternityclub.com.au/wp-content/uploads/2025/12/04122025021353-JokerPoker-EventSQ-TheFraternityClub.jpg
END:VEVENT
BEGIN:VEVENT
DTSTART;TZID=UTC:20260226T190000
DTEND;TZID=UTC:20260226T203000
DTSTAMP:20260420T202110
CREATED:20260108T224005Z
LAST-MODIFIED:20260420T001311Z
UID:10004022-1772132400-1772137800@www.fraternityclub.com.au
SUMMARY:Weekly Members Badge Draw
DESCRIPTION:Every Thursday night!\nNext Draw: $8 000 – 23rd April from 7pm \nStarting at $5\,000 and jackpots $1\,000 every week until we hit $10\,000. \n$5\,000 – $9\,000 prize draw format:\n7pm – 1st Draw\n7.30pm – 2nd Draw\n8pm – 3rd Draw\nIf not won\, 3 second chance winners will be selected from the virtual barrel to win $100 loyalty points. \n$10\,000 jackpot amount:\n7.30pm – 1st Draw\n8pm – 2nd Draw\n8.30pm – 3rd Draw\nIf not won\, 5 x $2000 second chance winners will be selected from the virtual barrel\, drawn at 8.35pm\, 8.40pm\, 8.45pm\, 8.50pm\, 8.55pm. \n*Terms and Conditions apply.
URL:https://www.fraternityclub.com.au/event/weekly-members-badge-draw-2-2-2/2026-02-26/
CATEGORIES:Promotions,Weekly Events
ATTACH;FMTTYPE=image/jpeg:https://www.fraternityclub.com.au/wp-content/uploads/2024/11/FC_MEMBERS-BADGE-DRAW_SQ4-2.jpg
END:VEVENT
BEGIN:VEVENT
DTSTART;TZID=Australia/Sydney:20260227T193000
DTEND;TZID=Australia/Sydney:20260227T200000
DTSTAMP:20260420T202110
CREATED:20250410T023035Z
LAST-MODIFIED:20251208T025623Z
UID:10002171-1772220600-1772222400@www.fraternityclub.com.au
SUMMARY:Friday Night Raffle
DESCRIPTION:  \nFriday nights just got tastier! Join us at The Frat for our legendary “Not just a meat” raffle! \nUp for grabs are vouchers for delicious\, top quality produce from Harley & Johns Seafood\, Passion in Fruit\, Illawarra Meat Co. plus\, Leisure Coast Fruit & Deli. \nDraw from 7.30pm \nA great way to end the week\, enjoy a meal\, and win yourself a weekend feast! \nBook your table now. \n 
URL:https://www.fraternityclub.com.au/event/friday-night-raffle/2026-02-27/
LOCATION:The Fraternity Club
CATEGORIES:Events,Promotions,Weekly Events
ATTACH;FMTTYPE=image/jpeg:https://www.fraternityclub.com.au/wp-content/uploads/2025/04/FC_MEAT-RAFFLE_SQ.jpg
END:VEVENT
BEGIN:VEVENT
DTSTART;TZID=Australia/Sydney:20260228T193000
DTEND;TZID=Australia/Sydney:20260228T233000
DTSTAMP:20260420T202110
CREATED:20260109T004814Z
LAST-MODIFIED:20260109T004814Z
UID:10003451-1772307000-1772321400@www.fraternityclub.com.au
SUMMARY:SATURDAY SOUNDS IN THE SUNKEN LOUNGE
DESCRIPTION:Saturday Sounds in the Sunken Lounge\nGet ready for a night of great music\, good vibes\, and dancing! \nJoin us every Saturday evening in the newly renovated Sunken Lounge for Saturday Sounds — featuring Illawarra’s most loved live bands. \nExperience high-energy hits\, upbeat funk\, and tunes that will have you on your feet all night long. With a rotating lineup of incredible local acts\, each week brings something fresh and exciting. \nSip on your favourite drink\, settle into the lounge’s stylish atmosphere\, and let the rhythm take over — your perfect Saturday night starts here. \nWhere: The Sunken LoungeWhen: Every Saturday from 7:30pmFree entry | All welcome
URL:https://www.fraternityclub.com.au/event/saturday-sounds-in-the-sunken-lounge-12/2026-02-28/
LOCATION:The Fraternity Club
CATEGORIES:Entertainment,Events,Live Music,Weekly Events
ATTACH;FMTTYPE=image/png:https://www.fraternityclub.com.au/wp-content/uploads/2026/01/SAT-SOUNDS-FEB-LINE-UP-.png
END:VEVENT
END:VCALENDAR