BEGIN:VCALENDAR
VERSION:2.0
PRODID:-//Fraternity Club - ECPv6.15.12.2//NONSGML v1.0//EN
CALSCALE:GREGORIAN
METHOD:PUBLISH
X-ORIGINAL-URL:https://www.fraternityclub.com.au
X-WR-CALDESC:Events for Fraternity Club
REFRESH-INTERVAL;VALUE=DURATION:PT1H
X-Robots-Tag:noindex
X-PUBLISHED-TTL:PT1H
BEGIN:VTIMEZONE
TZID:Australia/Sydney
BEGIN:STANDARD
TZOFFSETFROM:+1100
TZOFFSETTO:+1000
TZNAME:AEST
DTSTART:20250405T160000
END:STANDARD
BEGIN:DAYLIGHT
TZOFFSETFROM:+1000
TZOFFSETTO:+1100
TZNAME:AEDT
DTSTART:20251004T160000
END:DAYLIGHT
BEGIN:STANDARD
TZOFFSETFROM:+1100
TZOFFSETTO:+1000
TZNAME:AEST
DTSTART:20260404T160000
END:STANDARD
BEGIN:DAYLIGHT
TZOFFSETFROM:+1000
TZOFFSETTO:+1100
TZNAME:AEDT
DTSTART:20261003T160000
END:DAYLIGHT
BEGIN:STANDARD
TZOFFSETFROM:+1100
TZOFFSETTO:+1000
TZNAME:AEST
DTSTART:20270403T160000
END:STANDARD
BEGIN:DAYLIGHT
TZOFFSETFROM:+1000
TZOFFSETTO:+1100
TZNAME:AEDT
DTSTART:20271002T160000
END:DAYLIGHT
END:VTIMEZONE
BEGIN:VEVENT
DTSTART;TZID=Australia/Sydney:20260510T113000
DTEND;TZID=Australia/Sydney:20260510T150000
DTSTAMP:20260424T033946
CREATED:20260311T034606Z
LAST-MODIFIED:20260311T034621Z
UID:10003954-1778412600-1778425200@www.fraternityclub.com.au
SUMMARY:Mother’s Day Buffet Luncheon 2026
DESCRIPTION:Celebrate Mum with a refreshed Mother’s Day experience at the Fraternity Club\, featuring beautiful food\, live music and thoughtful touches throughout the afternoon to make her day extra special. \nWhat’s included: \n\nChampagne on arrival for MumA generous buffet luncheon with a wide selection of dishes\nA decadent dessert station with cakes\, sweets\, fruit and gelato\nLive music by Grace Mae\nA special surprise for all mums\nLucky door prizes\nAnd more…\n\nBring the family together and celebrate Mum with a relaxed afternoon of great food\, music and time spent together. \nDoors open: 11:30amLunch begins: 12:00pm \nMother’s Day is one of our most popular celebrations\, so we recommend booking early to secure your table for the family. \nTickets available online\, via the app or at Club Reception – Book now.
URL:https://www.fraternityclub.com.au/event/mothers-day-buffet-luncheon-2026/
CATEGORIES:Entertainment,Events,Family,Special Occasion,Yearly Event
ATTACH;FMTTYPE=image/jpeg:https://www.fraternityclub.com.au/wp-content/uploads/2026/03/05032026025637-MothersDayBuffet-EventSquare-TheFraternity.jpg
END:VEVENT
END:VCALENDAR