BEGIN:VCALENDAR
VERSION:2.0
PRODID:-//Fraternity Club - ECPv6.15.12.2//NONSGML v1.0//EN
CALSCALE:GREGORIAN
METHOD:PUBLISH
X-ORIGINAL-URL:https://www.fraternityclub.com.au
X-WR-CALDESC:Events for Fraternity Club
REFRESH-INTERVAL;VALUE=DURATION:PT1H
X-Robots-Tag:noindex
X-PUBLISHED-TTL:PT1H
BEGIN:VTIMEZONE
TZID:Australia/Sydney
BEGIN:STANDARD
TZOFFSETFROM:+1100
TZOFFSETTO:+1000
TZNAME:AEST
DTSTART:20250405T160000
END:STANDARD
BEGIN:DAYLIGHT
TZOFFSETFROM:+1000
TZOFFSETTO:+1100
TZNAME:AEDT
DTSTART:20251004T160000
END:DAYLIGHT
BEGIN:STANDARD
TZOFFSETFROM:+1100
TZOFFSETTO:+1000
TZNAME:AEST
DTSTART:20260404T160000
END:STANDARD
BEGIN:DAYLIGHT
TZOFFSETFROM:+1000
TZOFFSETTO:+1100
TZNAME:AEDT
DTSTART:20261003T160000
END:DAYLIGHT
BEGIN:STANDARD
TZOFFSETFROM:+1100
TZOFFSETTO:+1000
TZNAME:AEST
DTSTART:20270403T160000
END:STANDARD
BEGIN:DAYLIGHT
TZOFFSETFROM:+1000
TZOFFSETTO:+1100
TZNAME:AEDT
DTSTART:20271002T160000
END:DAYLIGHT
END:VTIMEZONE
BEGIN:VEVENT
DTSTART;TZID=Australia/Sydney:20260201T100000
DTEND;TZID=Australia/Sydney:20260308T193000
DTSTAMP:20260419T233613
CREATED:20260121T062921Z
LAST-MODIFIED:20260226T020851Z
UID:10003467-1769940000-1772998200@www.fraternityclub.com.au
SUMMARY:SIP & SCORE AFC WOMEN'S ASIAN CUP
DESCRIPTION:AFC WOMEN’S ASIAN CUP – SIP & SCORE\nThe biggest night in women’s football is coming — and you could be there. \nSip & Score at The Fraternity Club for your chance to win tickets to the AFC Women’s Asian Cup Final in Sydney. \n\nWHAT YOU CAN WIN\n4 tickets to the AFC Women’s Asian Cup FinalLocation: SydneyDate: Saturday 21 March 2026Over $1300 in value! \n\nHOW TO ENTER\nIt’s simple: \nBuy a Hahn product at The Fraternity Club \nEach Hahn purchased earns one entry into the draw \nMultiple purchases earn multiple entries \nNo paper tickets are issued. Entries are recorded automatically. The Fraternity Club practices responsible service of alcohol. \n\nIMPORTANT – DRAW NIGHT\nTo be eligible on draw night\, members must: \nCheck in from 5:30pm on Sunday 8 March \nAt a Club Kiosk\, or \nBy using a membership card at the bar or POS \nBe present in the Club at 7:30pm for the draw \nThe winner has four minutes to claim the prize\, or a redraw will occur. \n\nKEY DATES\nEntries open: Sunday 1 February 2026 \nDraw: Sunday 8 March 2026 at 7:30pm \nFinal: Saturday 21 March 2026 \n\nWHO CAN ENTER\nFinancial Members of The Fraternity Club \n18 years and over \n\nGOOD TO KNOW\nOne entry per Hahn product purchased \nWinner must be present to claim \nMembers can view their entry numbers at Club Kiosks \nThe Fraternity Club practices the responsible service of alcohol \n\nWATCH IT LIVE & LOUD\nThere’s no better place to catch the world game than The Fraternity Club – Home of Football in the Illawarra. \nGrab a Hahn\, earn your entries\, and you might just be heading to the Final. \n 
URL:https://www.fraternityclub.com.au/event/sip-score-afc-womens-asian-cup/2026-02-01/
LOCATION:The Fraternity Club
CATEGORIES:Entertainment,Events,Promotions,Special Occasion
ATTACH;FMTTYPE=image/jpeg:https://www.fraternityclub.com.au/wp-content/uploads/2026/01/02122025234658-AsianCup-EventSquare-TheFraternity.jpg
END:VEVENT
BEGIN:VEVENT
DTSTART;TZID=Australia/Sydney:20260301T110000
DTEND;TZID=Australia/Sydney:20260301T170000
DTSTAMP:20260419T233613
CREATED:20260212T022946Z
LAST-MODIFIED:20260212T023950Z
UID:10003485-1772362800-1772384400@www.fraternityclub.com.au
SUMMARY:NRL Las Vegas Watch Party
DESCRIPTION:The 2026 NRL season kicks off under the bright lights of Las Vegas — and we’re showing the full Round 1 triple-header live and loud at The Fraternity Club. \nKick-Off Times (AEDT)\n\n11:00am — Super League: Hull KR v Leeds Rhinos\n1:15pm — Newcastle Knights v North Queensland Cowboys\n3:30pm — Canterbury-Bankstown Bulldogs v St. George Illawarra Dragons\n\nGame Day Food\nHot dogs with fries\n\nLoaded $14\nClassic $10\n\nJersey Giveaway\nWin a Dragons or Bulldogs NRL Vegas 2026 jersey.Every beer purchase gives you an entry into the draw.Drawn from 4:30pm (after the game).Must be present to win. Members only. \n$5 VB’s\n$5 VB’s available from 12pm–5pm (Members only). \n\nWIN A TRIP FOR TWO TO NRL VEGAS 2027 (Via ClubsNSW)\nOn Sunday\, 1 March\, patrons attending our Official NRL Vegas Watch Party have the chance to WIN one of two trips for two to NRL Vegas 2027. \nHow to Enter\n\nScan the QR code in-venue on Sunday\, 1 March\nComplete the short trivia challenge\nFill out your contact details\n\nPrize Includes\n\nFlights and three nights’ accommodation\n$1000 USD spending money\nTickets to the NRL Vegas 2027 premiership kick-off\n\nWinners will be drawn on Monday\, 2 March 2026. \nEnds 5:20 PM AEDT\, 1 March 2026. Exclusions and T&Cs apply. Go to yourlocalclub.com.au for full T&Cs. NSW Authority No. TP/04763. \n18+ Drink responsibly. Management reserves the right to refuse service in accordance with RSA requirements.
URL:https://www.fraternityclub.com.au/event/nrl-las-vegas-watch-party/
CATEGORIES:Entertainment,Events,Family,Promotions,Special Occasion,Sports,Yearly Event
ATTACH;FMTTYPE=image/jpeg:https://www.fraternityclub.com.au/wp-content/uploads/2026/02/NRL_Las_Vegas_-_Event_square_-_The_Fraternity_V5.jpg
END:VEVENT
BEGIN:VEVENT
DTSTART;TZID=Australia/Sydney:20260308T193000
DTEND;TZID=Australia/Sydney:20260308T200000
DTSTAMP:20260419T233613
CREATED:20260121T062921Z
LAST-MODIFIED:20260226T020851Z
UID:10003890-1772998200-1773000000@www.fraternityclub.com.au
SUMMARY:SIP & SCORE AFC WOMEN'S ASIAN CUP
DESCRIPTION:AFC WOMEN’S ASIAN CUP – SIP & SCORE\nThe biggest night in women’s football is coming — and you could be there. \nSip & Score at The Fraternity Club for your chance to win tickets to the AFC Women’s Asian Cup Final in Sydney. \n\nWHAT YOU CAN WIN\n4 tickets to the AFC Women’s Asian Cup FinalLocation: SydneyDate: Saturday 21 March 2026Over $1300 in value! \n\nHOW TO ENTER\nIt’s simple: \nBuy a Hahn product at The Fraternity Club \nEach Hahn purchased earns one entry into the draw \nMultiple purchases earn multiple entries \nNo paper tickets are issued. Entries are recorded automatically. The Fraternity Club practices responsible service of alcohol. \n\nIMPORTANT – DRAW NIGHT\nTo be eligible on draw night\, members must: \nCheck in from 5:30pm on Sunday 8 March \nAt a Club Kiosk\, or \nBy using a membership card at the bar or POS \nBe present in the Club at 7:30pm for the draw \nThe winner has four minutes to claim the prize\, or a redraw will occur. \n\nKEY DATES\nEntries open: Sunday 1 February 2026 \nDraw: Sunday 8 March 2026 at 7:30pm \nFinal: Saturday 21 March 2026 \n\nWHO CAN ENTER\nFinancial Members of The Fraternity Club \n18 years and over \n\nGOOD TO KNOW\nOne entry per Hahn product purchased \nWinner must be present to claim \nMembers can view their entry numbers at Club Kiosks \nThe Fraternity Club practices the responsible service of alcohol \n\nWATCH IT LIVE & LOUD\nThere’s no better place to catch the world game than The Fraternity Club – Home of Football in the Illawarra. \nGrab a Hahn\, earn your entries\, and you might just be heading to the Final. \n 
URL:https://www.fraternityclub.com.au/event/sip-score-afc-womens-asian-cup/2026-03-08/
LOCATION:The Fraternity Club
CATEGORIES:Entertainment,Events,Promotions,Special Occasion
ATTACH;FMTTYPE=image/jpeg:https://www.fraternityclub.com.au/wp-content/uploads/2026/01/02122025234658-AsianCup-EventSquare-TheFraternity.jpg
END:VEVENT
BEGIN:VEVENT
DTSTART;TZID=Australia/Sydney:20260318T110000
DTEND;TZID=Australia/Sydney:20260318T133000
DTSTAMP:20260419T233613
CREATED:20251208T012547Z
LAST-MODIFIED:20251211T030208Z
UID:10002620-1773831600-1773840600@www.fraternityclub.com.au
SUMMARY:Morning Melodies – The Very Best of Cliff Richard
DESCRIPTION:Following a recent sell-out performance of “The Very Best of Cliff Richard & The Shadows 1958–1968”\, Flynn thrilled audiences with 15 of Cliff’s No. 1 and Top 10 hits. Expect all the favourites\, including Living Doll\, Please Don’t Tease\, Summer Holiday\, The Young Ones\, and many more. \nThey say music is the ultimate time machine—so don’t miss this joyful trip back to your youth through these timeless songs. \nTickets: $25 (includes Roast Lunch)Wednesday 18 March 2026 \nBook your tickets NOW!
URL:https://www.fraternityclub.com.au/event/morning-melodies-the-very-best-of-cliff-richard/
CATEGORIES:Dinner & Show,Entertainment,Events,Holiday Events,Live Music,Special Occasion
ATTACH;FMTTYPE=image/png:https://www.fraternityclub.com.au/wp-content/uploads/2025/12/Morning-Melodies-Instagram-Post.png
END:VEVENT
BEGIN:VEVENT
DTSTART;TZID=Australia/Sydney:20260319T180000
DTEND;TZID=Australia/Sydney:20260322T220000
DTSTAMP:20260419T233613
CREATED:20260212T004714Z
LAST-MODIFIED:20260212T005055Z
UID:10003484-1773943200-1774216800@www.fraternityclub.com.au
SUMMARY:AUSTRALIAN PINBALL CHAMPIONSHIPS
DESCRIPTION:Australia’s premier pinball competition is coming to the Illawarra! \nThe IFPA Australian Championship Series (ACS) brings together the nation’s top-ranked players for four huge days of competitive pinball\, hosted this year by The Illawarra Pinball Club (IPC) at The Fraternity Club. \nWhat is the ACS?\nThe ACS is where Australia’s best qualify and battle it out for national bragging rights. Players earn their place throughout the year via WPPR points\, with the top competitors from each state and territory securing spots in the series. \nWhat’s on across the weekend\nAlongside the main ACS Championship\, there are plenty of ways to get involved—whether you’re playing\, learning\, or cheering from the sidelines: \n\nThursday night: Max Matchplay\nFriday (all day): Group Matchplay\nSaturday: Target Matchplay (for non-qualifiers of ACS)\nSunday: On Strikes (running alongside the ACS Finals)\n\n🎯 Best Game Competition (all weekend): Running across the full event with finals after the main event finals—perfect if you love chasing that one big score. \nCome play or come watch\nWhether you’re a seasoned competitor\, a casual player\, or just keen for a fun weekend out\, this is a celebration of Australian pinball at its best. Expect big plays\, great vibes\, and plenty of action on the machines. \nCome play or cheer on Australia’s best at The Fraternity Club this March. \nFor tickets and more information CLICK HERE
URL:https://www.fraternityclub.com.au/event/australian-pinball-championships/
LOCATION:The Fraternity Club
CATEGORIES:Community,Entertainment,Events,Family,Sports
ATTACH;FMTTYPE=image/jpeg:https://www.fraternityclub.com.au/wp-content/uploads/2026/02/ACS_Frat_1080x1080px.jpg
END:VEVENT
BEGIN:VEVENT
DTSTART;TZID=Australia/Sydney:20260327T180000
DTEND;TZID=Australia/Sydney:20260327T200000
DTSTAMP:20260419T233613
CREATED:20260304T032417Z
LAST-MODIFIED:20260304T032947Z
UID:10003894-1774634400-1774641600@www.fraternityclub.com.au
SUMMARY:Easter Bambini Disco
DESCRIPTION:Hop into some Easter fun at The Fraternity Club’s Easter Bambini Disco — a lively evening of music\, dancing and smiles for the little ones. \nPerfect for kids aged 2 to 12\, the disco is packed with energy\, colourful lights and plenty of Easter excitement. Watch your little bunnies dance the evening away to their favourite tunes while you relax and enjoy dinner from the Bistro or our famous wood-fired pizza. \nEvent Details: \n\n\nKids Tickets: $13 per child – includes entry\, bunny ears & Easter egg\nAdults: Free to attend! Please reserve a ticket to help us manage numbers. Children must be supervised at all times\nAlcohol-Free Event: No alcohol will be served or permitted during the event\n\nMake a night of it at The Fraternity Club — our Easter Raffle will also be happening the same evening from 7:30pm\, with over $2\,000 in prizes up for grabs! \n\nBook your tickets now! \nPlanning a Party?\nMake it extra special with a Easter Bambini Party Package! \nParty Package – $25 per child \nIncludes: \n\n\nA party bag for each child\nReserved disco-themed table\nHot party food\n\n\n\nMinimum of 10 children per booking. You’re welcome to bring your own birthday cake and decorations (no other outside food permitted). \nTo book a party\, contact Club Reception: (02) 4283 3333 or Email: admin@fraternityclub.com.au
URL:https://www.fraternityclub.com.au/event/2357/
LOCATION:The Fraternity Club
CATEGORIES:Disco,Entertainment,Events,Family
ATTACH;FMTTYPE=image/png:https://www.fraternityclub.com.au/wp-content/uploads/2026/03/1080x1080.png
END:VEVENT
BEGIN:VEVENT
DTSTART;TZID=Australia/Sydney:20260327T193000
DTEND;TZID=Australia/Sydney:20260327T203000
DTSTAMP:20260419T233613
CREATED:20260303T235730Z
LAST-MODIFIED:20260304T000011Z
UID:10003893-1774639800-1774643400@www.fraternityclub.com.au
SUMMARY:EASTER RAFFLE
DESCRIPTION:Celebrate Easter at The Fraternity Club and be part of our Easter Raffle\, with over $2\,000 worth of prizes up for grabs. \nFrom Easter hampers and sweet treats to fantastic family prizes\, there’s something for everyone — including the huge Easter bunny pictured\, which is also up for grabs! It’s the ultimate Easter surprise and one the kids will absolutely love. \nDraw from 7:30pmTickets available on the day. \nCome in early\, enjoy dinner in the club and settle in for a fun\, relaxed Friday night. \nPlus… It’s Also Our Easter Bambini Disco! 🐰\nThe same night\, the little ones can hop onto the dance floor at our Easter Bambini Disco\, running from 6pm – 8pm. \nAn evening filled with music\, dancing and Easter fun. \nTickets: $13 per child (includes bunny ears & egg) \nMake a night of it — the kids can enjoy the disco while the adults relax\, dine and stay for the Easter Raffle draw. \nWe can’t wait to celebrate Easter with you at The Fraternity Club.
URL:https://www.fraternityclub.com.au/event/easter-raffle/
CATEGORIES:Entertainment,Events,Family,Promotions,Raffle,Special Occasion,Yearly Event
ATTACH;FMTTYPE=image/jpeg:https://www.fraternityclub.com.au/wp-content/uploads/2026/03/Easter_Raffle_-_Social_tile_-_Fraternity.jpg
END:VEVENT
END:VCALENDAR