BEGIN:VCALENDAR
VERSION:2.0
PRODID:-//Fraternity Club - ECPv6.15.12.2//NONSGML v1.0//EN
CALSCALE:GREGORIAN
METHOD:PUBLISH
X-WR-CALNAME:Fraternity Club
X-ORIGINAL-URL:https://www.fraternityclub.com.au
X-WR-CALDESC:Events for Fraternity Club
REFRESH-INTERVAL;VALUE=DURATION:PT1H
X-Robots-Tag:noindex
X-PUBLISHED-TTL:PT1H
BEGIN:VTIMEZONE
TZID:Australia/Sydney
BEGIN:STANDARD
TZOFFSETFROM:+1100
TZOFFSETTO:+1000
TZNAME:AEST
DTSTART:20250405T160000
END:STANDARD
BEGIN:DAYLIGHT
TZOFFSETFROM:+1000
TZOFFSETTO:+1100
TZNAME:AEDT
DTSTART:20251004T160000
END:DAYLIGHT
BEGIN:STANDARD
TZOFFSETFROM:+1100
TZOFFSETTO:+1000
TZNAME:AEST
DTSTART:20260404T160000
END:STANDARD
BEGIN:DAYLIGHT
TZOFFSETFROM:+1000
TZOFFSETTO:+1100
TZNAME:AEDT
DTSTART:20261003T160000
END:DAYLIGHT
BEGIN:STANDARD
TZOFFSETFROM:+1100
TZOFFSETTO:+1000
TZNAME:AEST
DTSTART:20270403T160000
END:STANDARD
BEGIN:DAYLIGHT
TZOFFSETFROM:+1000
TZOFFSETTO:+1100
TZNAME:AEDT
DTSTART:20271002T160000
END:DAYLIGHT
END:VTIMEZONE
BEGIN:VTIMEZONE
TZID:UTC
BEGIN:STANDARD
TZOFFSETFROM:+0000
TZOFFSETTO:+0000
TZNAME:UTC
DTSTART:20250101T000000
END:STANDARD
END:VTIMEZONE
BEGIN:VEVENT
DTSTART;TZID=Australia/Sydney:20260201T100000
DTEND;TZID=Australia/Sydney:20260308T193000
DTSTAMP:20260420T024636
CREATED:20260121T062921Z
LAST-MODIFIED:20260226T020851Z
UID:10003467-1769940000-1772998200@www.fraternityclub.com.au
SUMMARY:SIP & SCORE AFC WOMEN'S ASIAN CUP
DESCRIPTION:AFC WOMEN’S ASIAN CUP – SIP & SCORE\nThe biggest night in women’s football is coming — and you could be there. \nSip & Score at The Fraternity Club for your chance to win tickets to the AFC Women’s Asian Cup Final in Sydney. \n\nWHAT YOU CAN WIN\n4 tickets to the AFC Women’s Asian Cup FinalLocation: SydneyDate: Saturday 21 March 2026Over $1300 in value! \n\nHOW TO ENTER\nIt’s simple: \nBuy a Hahn product at The Fraternity Club \nEach Hahn purchased earns one entry into the draw \nMultiple purchases earn multiple entries \nNo paper tickets are issued. Entries are recorded automatically. The Fraternity Club practices responsible service of alcohol. \n\nIMPORTANT – DRAW NIGHT\nTo be eligible on draw night\, members must: \nCheck in from 5:30pm on Sunday 8 March \nAt a Club Kiosk\, or \nBy using a membership card at the bar or POS \nBe present in the Club at 7:30pm for the draw \nThe winner has four minutes to claim the prize\, or a redraw will occur. \n\nKEY DATES\nEntries open: Sunday 1 February 2026 \nDraw: Sunday 8 March 2026 at 7:30pm \nFinal: Saturday 21 March 2026 \n\nWHO CAN ENTER\nFinancial Members of The Fraternity Club \n18 years and over \n\nGOOD TO KNOW\nOne entry per Hahn product purchased \nWinner must be present to claim \nMembers can view their entry numbers at Club Kiosks \nThe Fraternity Club practices the responsible service of alcohol \n\nWATCH IT LIVE & LOUD\nThere’s no better place to catch the world game than The Fraternity Club – Home of Football in the Illawarra. \nGrab a Hahn\, earn your entries\, and you might just be heading to the Final. \n 
URL:https://www.fraternityclub.com.au/event/sip-score-afc-womens-asian-cup/2026-02-01/
LOCATION:The Fraternity Club
CATEGORIES:Entertainment,Events,Promotions,Special Occasion
ATTACH;FMTTYPE=image/jpeg:https://www.fraternityclub.com.au/wp-content/uploads/2026/01/02122025234658-AsianCup-EventSquare-TheFraternity.jpg
END:VEVENT
BEGIN:VEVENT
DTSTART;TZID=Australia/Sydney:20260204T193000
DTEND;TZID=Australia/Sydney:20260204T220000
DTSTAMP:20260420T024636
CREATED:20250903T004928Z
LAST-MODIFIED:20251202T002739Z
UID:10002093-1770233400-1770242400@www.fraternityclub.com.au
SUMMARY:Manpower Australia
DESCRIPTION:Grab your girls. Grab your tickets. Get ready for a night of pure THUNDER! \n\n\n\n\n\nDirect from Las Vegas\, the world-famous Australia’s Thunder From Down Under is bringing their electrifying stage show to Wollongong!  \nKnown worldwide as the ultimate girls’ night out\, these Aussie hunks deliver a high-energy performance packed with jaw-dropping dance routines\, cheeky charisma\, and that unmistakable Aussie charm.  \nWhether you’re celebrating a birthday\, hens night\, or just want an unforgettable night with the girls\, this is the show you don’t want to miss. \nThe hottest tour yet – bigger\, bolder\, and more THUNDER than ever before.  \n \nDate: Wednesday\, 4th February 2026 \nDoors Open: 7:30 PM \nShowtime: 8:00 PM \nTickets: $44 \nBook your tickets NOW!\nGrab the squad\, grab your tickets\, and get ready to experience the night of your life!
URL:https://www.fraternityclub.com.au/event/manpower-australia-wednesday-4th-february/
LOCATION:The Fraternity Club
CATEGORIES:Entertainment,Events,Special Occasion
ATTACH;FMTTYPE=image/jpeg:https://www.fraternityclub.com.au/wp-content/uploads/2025/09/Manpower-Wollongong-Coming-1080x1080-1.jpg
END:VEVENT
BEGIN:VEVENT
DTSTART;TZID=Australia/Sydney:20260207T193000
DTEND;TZID=Australia/Sydney:20260207T233000
DTSTAMP:20260420T024636
CREATED:20260109T004814Z
LAST-MODIFIED:20260109T004814Z
UID:10003448-1770492600-1770507000@www.fraternityclub.com.au
SUMMARY:SATURDAY SOUNDS IN THE SUNKEN LOUNGE
DESCRIPTION:Saturday Sounds in the Sunken Lounge\nGet ready for a night of great music\, good vibes\, and dancing! \nJoin us every Saturday evening in the newly renovated Sunken Lounge for Saturday Sounds — featuring Illawarra’s most loved live bands. \nExperience high-energy hits\, upbeat funk\, and tunes that will have you on your feet all night long. With a rotating lineup of incredible local acts\, each week brings something fresh and exciting. \nSip on your favourite drink\, settle into the lounge’s stylish atmosphere\, and let the rhythm take over — your perfect Saturday night starts here. \nWhere: The Sunken LoungeWhen: Every Saturday from 7:30pmFree entry | All welcome
URL:https://www.fraternityclub.com.au/event/saturday-sounds-in-the-sunken-lounge-12/2026-02-07/
LOCATION:The Fraternity Club
CATEGORIES:Entertainment,Events,Live Music,Weekly Events
ATTACH;FMTTYPE=image/png:https://www.fraternityclub.com.au/wp-content/uploads/2026/01/SAT-SOUNDS-FEB-LINE-UP-.png
END:VEVENT
BEGIN:VEVENT
DTSTART;TZID=UTC:20260214T173000
DTEND;TZID=UTC:20260214T203000
DTSTAMP:20260420T024636
CREATED:20260121T055259Z
LAST-MODIFIED:20260121T061518Z
UID:10003466-1771090200-1771101000@www.fraternityclub.com.au
SUMMARY:Valentines Day Celebrations
DESCRIPTION:A Relaxed Valentine’s Celebration Built Around Great Food\nThis Valentine’s Day\, treat someone special to lunch or dinner at The Fraternity Club. \nOn Saturday 14 February\, members are invited to enjoy our Seafood Platter for Two for just $80\, including a complimentary bottle of Vivo wine — perfect for sharing\, whether you join us during the day or in the evening. \nExpect generous servings\, beautifully prepared dishes\, and the quality The Fraternity Club is known for. \nNo fuss\, no pressure — just great food\, great company\, and a relaxed atmosphere. \nBookings are essential.Book a table online or call (02) 4283 3333. \nNot a member?Join now — or join on the day — to enjoy this Valentine’s Day members’ special. \n\n\nMembers Only | 18+Terms and conditions apply. \n  \n 
URL:https://www.fraternityclub.com.au/event/valentines-day-14th-february/
CATEGORIES:Entertainment,Events,Promotions,Special Occasion
ATTACH;FMTTYPE=image/jpeg:https://www.fraternityclub.com.au/wp-content/uploads/2026/01/02122025234952-ValentinesDay-EventSquare-TheFraternity.jpg
END:VEVENT
BEGIN:VEVENT
DTSTART;TZID=Australia/Sydney:20260214T193000
DTEND;TZID=Australia/Sydney:20260214T233000
DTSTAMP:20260420T024636
CREATED:20260109T004814Z
LAST-MODIFIED:20260109T004814Z
UID:10003449-1771097400-1771111800@www.fraternityclub.com.au
SUMMARY:SATURDAY SOUNDS IN THE SUNKEN LOUNGE
DESCRIPTION:Saturday Sounds in the Sunken Lounge\nGet ready for a night of great music\, good vibes\, and dancing! \nJoin us every Saturday evening in the newly renovated Sunken Lounge for Saturday Sounds — featuring Illawarra’s most loved live bands. \nExperience high-energy hits\, upbeat funk\, and tunes that will have you on your feet all night long. With a rotating lineup of incredible local acts\, each week brings something fresh and exciting. \nSip on your favourite drink\, settle into the lounge’s stylish atmosphere\, and let the rhythm take over — your perfect Saturday night starts here. \nWhere: The Sunken LoungeWhen: Every Saturday from 7:30pmFree entry | All welcome
URL:https://www.fraternityclub.com.au/event/saturday-sounds-in-the-sunken-lounge-12/2026-02-14/
LOCATION:The Fraternity Club
CATEGORIES:Entertainment,Events,Live Music,Weekly Events
ATTACH;FMTTYPE=image/png:https://www.fraternityclub.com.au/wp-content/uploads/2026/01/SAT-SOUNDS-FEB-LINE-UP-.png
END:VEVENT
BEGIN:VEVENT
DTSTART;TZID=UTC:20260220T180000
DTEND;TZID=UTC:20260220T200000
DTSTAMP:20260420T024636
CREATED:20260116T072728Z
LAST-MODIFIED:20260128T234222Z
UID:10003463-1771610400-1771617600@www.fraternityclub.com.au
SUMMARY:Bambini Disco
DESCRIPTION:Join us at the Fraternity Club for our next Bambini Disco! \nPerfect for kids aged 2 to 12\, our Bambini Disco is the ultimate night of fun\, colour\, and celebration. \nWatch your little ones light up the dance floor under disco lights as they groove to their favourite tunes. \nMeanwhile\, you can sit back\, relax\, and enjoy a delicious meal from the bistro — or treat yourself to our famous wood-fired pizza. \n\nKids Tickets: $12 per child \nIncludes entry\, a party bag\, and access to all the fun! \nAdults: Free to attend! Please reserve a ticket to help us manage numbers. Children must be supervised at all times. \nAlcohol-Free Event: No alcohol will be served or permitted. \nPlanning a Party?\nMake it extra special with a Disco Party Booking! \nParty Package: $25 per child \nIncludes: \n\nParty bag for each child \nReserved disco-themed table \nHot party food \n\nMinimum: 10 children per party booking. \nYou’re welcome to bring your own birthday cake and decorations (no other outside food permitted). \nTo book a Glow Party: Call (02) 4283 3333 or email admin@fraternityclub.com.au \nWe can’t wait to see your bambini light up the dance floor at our Bambini Disco! 🌈 \n  \nBook your Tickets NOW!
URL:https://www.fraternityclub.com.au/event/bambini-disco/
CATEGORIES:Disco,Entertainment,Events,Holiday Events
ATTACH;FMTTYPE=image/png:https://www.fraternityclub.com.au/wp-content/uploads/2026/01/square.png
END:VEVENT
BEGIN:VEVENT
DTSTART;TZID=Australia/Sydney:20260221T193000
DTEND;TZID=Australia/Sydney:20260221T233000
DTSTAMP:20260420T024636
CREATED:20260109T004814Z
LAST-MODIFIED:20260109T004814Z
UID:10003450-1771702200-1771716600@www.fraternityclub.com.au
SUMMARY:SATURDAY SOUNDS IN THE SUNKEN LOUNGE
DESCRIPTION:Saturday Sounds in the Sunken Lounge\nGet ready for a night of great music\, good vibes\, and dancing! \nJoin us every Saturday evening in the newly renovated Sunken Lounge for Saturday Sounds — featuring Illawarra’s most loved live bands. \nExperience high-energy hits\, upbeat funk\, and tunes that will have you on your feet all night long. With a rotating lineup of incredible local acts\, each week brings something fresh and exciting. \nSip on your favourite drink\, settle into the lounge’s stylish atmosphere\, and let the rhythm take over — your perfect Saturday night starts here. \nWhere: The Sunken LoungeWhen: Every Saturday from 7:30pmFree entry | All welcome
URL:https://www.fraternityclub.com.au/event/saturday-sounds-in-the-sunken-lounge-12/2026-02-21/
LOCATION:The Fraternity Club
CATEGORIES:Entertainment,Events,Live Music,Weekly Events
ATTACH;FMTTYPE=image/png:https://www.fraternityclub.com.au/wp-content/uploads/2026/01/SAT-SOUNDS-FEB-LINE-UP-.png
END:VEVENT
BEGIN:VEVENT
DTSTART;TZID=Australia/Sydney:20260228T193000
DTEND;TZID=Australia/Sydney:20260228T233000
DTSTAMP:20260420T024636
CREATED:20260109T004814Z
LAST-MODIFIED:20260109T004814Z
UID:10003451-1772307000-1772321400@www.fraternityclub.com.au
SUMMARY:SATURDAY SOUNDS IN THE SUNKEN LOUNGE
DESCRIPTION:Saturday Sounds in the Sunken Lounge\nGet ready for a night of great music\, good vibes\, and dancing! \nJoin us every Saturday evening in the newly renovated Sunken Lounge for Saturday Sounds — featuring Illawarra’s most loved live bands. \nExperience high-energy hits\, upbeat funk\, and tunes that will have you on your feet all night long. With a rotating lineup of incredible local acts\, each week brings something fresh and exciting. \nSip on your favourite drink\, settle into the lounge’s stylish atmosphere\, and let the rhythm take over — your perfect Saturday night starts here. \nWhere: The Sunken LoungeWhen: Every Saturday from 7:30pmFree entry | All welcome
URL:https://www.fraternityclub.com.au/event/saturday-sounds-in-the-sunken-lounge-12/2026-02-28/
LOCATION:The Fraternity Club
CATEGORIES:Entertainment,Events,Live Music,Weekly Events
ATTACH;FMTTYPE=image/png:https://www.fraternityclub.com.au/wp-content/uploads/2026/01/SAT-SOUNDS-FEB-LINE-UP-.png
END:VEVENT
END:VCALENDAR