BEGIN:VCALENDAR
VERSION:2.0
PRODID:-//Fraternity Club - ECPv6.15.12.2//NONSGML v1.0//EN
CALSCALE:GREGORIAN
METHOD:PUBLISH
X-ORIGINAL-URL:https://www.fraternityclub.com.au
X-WR-CALDESC:Events for Fraternity Club
REFRESH-INTERVAL;VALUE=DURATION:PT1H
X-Robots-Tag:noindex
X-PUBLISHED-TTL:PT1H
BEGIN:VTIMEZONE
TZID:Australia/Sydney
BEGIN:STANDARD
TZOFFSETFROM:+1100
TZOFFSETTO:+1000
TZNAME:AEST
DTSTART:20250405T160000
END:STANDARD
BEGIN:DAYLIGHT
TZOFFSETFROM:+1000
TZOFFSETTO:+1100
TZNAME:AEDT
DTSTART:20251004T160000
END:DAYLIGHT
BEGIN:STANDARD
TZOFFSETFROM:+1100
TZOFFSETTO:+1000
TZNAME:AEST
DTSTART:20260404T160000
END:STANDARD
BEGIN:DAYLIGHT
TZOFFSETFROM:+1000
TZOFFSETTO:+1100
TZNAME:AEDT
DTSTART:20261003T160000
END:DAYLIGHT
BEGIN:STANDARD
TZOFFSETFROM:+1100
TZOFFSETTO:+1000
TZNAME:AEST
DTSTART:20270403T160000
END:STANDARD
BEGIN:DAYLIGHT
TZOFFSETFROM:+1000
TZOFFSETTO:+1100
TZNAME:AEDT
DTSTART:20271002T160000
END:DAYLIGHT
END:VTIMEZONE
BEGIN:VTIMEZONE
TZID:UTC
BEGIN:STANDARD
TZOFFSETFROM:+0000
TZOFFSETTO:+0000
TZNAME:UTC
DTSTART:20250101T000000
END:STANDARD
END:VTIMEZONE
BEGIN:VEVENT
DTSTART;TZID=Australia/Sydney:20260104T193000
DTEND;TZID=Australia/Sydney:20260104T220000
DTSTAMP:20260423T231410
CREATED:20250911T020935Z
LAST-MODIFIED:20251202T002825Z
UID:10002118-1767555000-1767564000@www.fraternityclub.com.au
SUMMARY:Jimeoin BallyHoo
DESCRIPTION:  \nGet ready for an unforgettable night of laughter as The Fraternity Club proudly presents the legendary comedian Jimeoin \nFamous for his brilliantly observed comedy\, razor-sharp wit\, and infectious charm\, Jimeoin has a unique gift for transforming the everyday into the absurd. From quirky thoughts to hilarious physical expressiveness\, no two shows are ever the same — and that’s exactly why audiences keep coming back for more. \nSo why not do something spontaneous? Join us at The Fraternity Club for a guaranteed night of belly laughs with one of the greats of stand-up comedy. \n4th January 2026\, 7:30pm \nTickets: $59\, Available now — don’t miss out! \nBook NOW ! 
URL:https://www.fraternityclub.com.au/event/jimeoin-ballyhoo-sunday-4th-january-2026/
LOCATION:The Fraternity Club
CATEGORIES:Comedy Night,Entertainment,Events
ATTACH;FMTTYPE=image/png:https://www.fraternityclub.com.au/wp-content/uploads/2025/09/Jimeoin-Events-Square.png
END:VEVENT
BEGIN:VEVENT
DTSTART;TZID=UTC:20260105T120000
DTEND;TZID=UTC:20260105T140000
DTSTAMP:20260423T231410
CREATED:20251102T233657Z
LAST-MODIFIED:20251208T024935Z
UID:10002431-1767614400-1767621600@www.fraternityclub.com.au
SUMMARY:Disney High Tea
DESCRIPTION:Treat your little bambini’s to an unforgettable tea party where every bite is a moment of bliss! Specially crafted for young connoisseurs\, this charming affair brings together the elegance of a traditional high tea and the playful spirit of childhood. \nWhat to expect: \n⭐ A scrum-diddly-umptious spread of hot and cold treats that will tickle little taste buds \n⭐ Face Painting \n⭐ Magic\, Games and Prizes \n⭐ A visit from some very special Disney Stars \nParents & Carers  you don’t miss out on the treats – There will be plenty to go around! \nSecure your tickets quickly so your little one doesn’t miss out on the Disney inspired festivities! ⭐ \nClick for Tickets\n 
URL:https://www.fraternityclub.com.au/event/disney-high-tea-wednesday-23rd-april/
CATEGORIES:Entertainment,Events,Holiday Events,Kids School Holiday Events,Special Occasion
ATTACH;FMTTYPE=image/jpeg:https://www.fraternityclub.com.au/wp-content/uploads/2025/11/Disney-High-Tea-Social-Tile-The-Fraternity-Club.jpg
END:VEVENT
BEGIN:VEVENT
DTSTART;TZID=UTC:20260106T113000
DTEND;TZID=UTC:20260106T123000
DTSTAMP:20260423T231410
CREATED:20251102T235248Z
LAST-MODIFIED:20251208T024935Z
UID:10002432-1767699000-1767702600@www.fraternityclub.com.au
SUMMARY:Showbag Bingo
DESCRIPTION:The Frat is where the Fun is at these School Holidays!!\nJoin us for Kid’s Bingo\, Fun and Games\, where Everyone is a WINNER! \nRecommended for children aged 4 years – 12 years. Be quick tickets are limited. \nCLICK FOR TICKETS\n 
URL:https://www.fraternityclub.com.au/event/showbag-bingo/
CATEGORIES:Disco,Entertainment,Events,Family,Holiday Events,Kids School Holiday Events
ATTACH;FMTTYPE=image/jpeg:https://www.fraternityclub.com.au/wp-content/uploads/2025/11/Jan-6-Showbag-Bingo-Social-tile-Fraternity.jpg
END:VEVENT
BEGIN:VEVENT
DTSTART;TZID=Australia/Sydney:20260106T130000
DTEND;TZID=Australia/Sydney:20260106T143000
DTSTAMP:20260423T231410
CREATED:20251218T063243Z
LAST-MODIFIED:20251218T063951Z
UID:10002897-1767704400-1767709800@www.fraternityclub.com.au
SUMMARY:Meet LA BEFANA Down Under ~ Family Celebration + Colouring Comp Winners + Kids Disco
DESCRIPTION:Celebrate a much-loved Italian tradition with a fun family afternoon at The Fraternity Club! \nLa Befana — Italy’s “Good Witch” — is a magical folklore character who visits children around Epiphany\, bringing sweets\, joy\, and a beautiful message of kindness and second chances. \nJoin us from 1pm for: \n-Meet & Greet La Befana (a must for little ones!) \n-Storytelling of the La Befana legend \n-Colouring-In Competition winner announcement \n-Kids Disco to finish the day with dancing and fun! \nBring the family\, soak up the festive vibes\, and help us celebrate culture\, community\, and creativity at The Frat! \nFor the Colouring in Competition details and print-out\, Click Here.  \n  \n 
URL:https://www.fraternityclub.com.au/event/meet-la-befana-down-under-family-celebration-colouring-comp-winners-kids-disco/
CATEGORIES:Entertainment,Events,Family,Kids School Holiday Events
ATTACH;FMTTYPE=image/png:https://www.fraternityclub.com.au/wp-content/uploads/2025/12/LA-BEFANA-Instagram-Post-square.png
END:VEVENT
BEGIN:VEVENT
DTSTART;TZID=Australia/Sydney:20260109T180000
DTEND;TZID=Australia/Sydney:20260109T200000
DTSTAMP:20260423T231411
CREATED:20251103T000408Z
LAST-MODIFIED:20251208T024935Z
UID:10002433-1767981600-1767988800@www.fraternityclub.com.au
SUMMARY:BAMBINI SILENT DISCO
DESCRIPTION:Join us at the Fraternity Club for our next Kid’s disco – in SILENCE! \nPerfect for kids aged 2 to 12\, the Bambini Disco is the ultimate night of fun\, music\, and celebration! \nLet your little ones dance to their favourite tunes while you relax and enjoy a delicious meal from the bistro or savour our famous wood-fired pizza. \nEvent Details: \n\n\n\nKids Tickets: $15 per child. Includes entry\, headphones and a party bag. \n\n\nAdults: Free to attend! Please reserve a ticket to help us manage numbers. Children must be supervised at all times. \n\n\n\nAlcohol-Free Event: No alcohol will be served or permitted.\n\nWe can’t wait to see your bambini busting a move on the dance floor! \nClick to purchase tickets! \n  \n\nPlanning a Party? \nMake it extra special with a party booking! \nParty Package: $25 per child \nIncludes: \n\n\n\nA party bag for each child \n\n\nReserved disco-themed table \n\n\nHot party food \n\n\n\nMinimum of 10 children per party booking. \nYou’re welcome to bring your own birthday cake and decorations (no other outside food permitted). \nTo book a party\, contact Club Reception:(02) 4283 3333 admin@fraternityclub.com.au
URL:https://www.fraternityclub.com.au/event/bambini-silent-disco/
CATEGORIES:Disco,Entertainment,Events,Holiday Events,Kids School Holiday Events
ATTACH;FMTTYPE=image/jpeg:https://www.fraternityclub.com.au/wp-content/uploads/2025/11/Jan-9-Silent-Disco-Social-tile-Fraternity.jpg
END:VEVENT
BEGIN:VEVENT
DTSTART;TZID=Australia/Sydney:20260110T193000
DTEND;TZID=Australia/Sydney:20260110T233000
DTSTAMP:20260423T231411
CREATED:20260109T004324Z
LAST-MODIFIED:20260109T004419Z
UID:10003440-1768073400-1768087800@www.fraternityclub.com.au
SUMMARY:SATURDAY SOUNDS IN THE SUNKEN LOUNGE
DESCRIPTION:Saturday Sounds in the Sunken Lounge\nGet ready for a night of great music\, good vibes\, and dancing! \nJoin us every Saturday evening in the newly renovated Sunken Lounge for Saturday Sounds — featuring Illawarra’s most loved live bands. \nExperience high-energy hits\, upbeat funk\, and tunes that will have you on your feet all night long. With a rotating lineup of incredible local acts\, each week brings something fresh and exciting. \nSip on your favourite drink\, settle into the lounge’s stylish atmosphere\, and let the rhythm take over — your perfect Saturday night starts here. \nWhere: The Sunken LoungeWhen: Every Saturday from 7:30pmFree entry | All welcome
URL:https://www.fraternityclub.com.au/event/saturday-sounds-in-the-sunken-lounge-11/2026-01-10/
LOCATION:The Fraternity Club
CATEGORIES:Entertainment,Events,Live Music,Weekly Events
ATTACH;FMTTYPE=image/png:https://www.fraternityclub.com.au/wp-content/uploads/2026/01/SAT-SOUNDS-JAN-LINE-UP.png
END:VEVENT
BEGIN:VEVENT
DTSTART;TZID=UTC:20260112T120000
DTEND;TZID=UTC:20260112T140000
DTSTAMP:20260423T231411
CREATED:20251103T002648Z
LAST-MODIFIED:20251208T024935Z
UID:10002434-1768219200-1768226400@www.fraternityclub.com.au
SUMMARY:Willy Wonka's High Tea
DESCRIPTION:Treat your little bambini’s to an unforgettable tea party where every bite is a moment of bliss!  \nSpecially crafted for young connoisseurs\, this charming affair brings together the elegance of a traditional high tea and the playful spirit of childhood. \nWhat to expect: \n🎩 A scrum-diddly-umptious spread of sweet and savoury treats that will tickle little taste buds \n🎩 Children’s Entertainment \n🎩 Games\, fun and Prizes \n🎩 Face Painting \nParents & Carers  you don’t miss out on the treats – There will be plenty to go around! \nSecure your golden tickets quickly so your little one doesn’t miss out on the Wonka inspired festivities 🎩 \nClick for Tickets\n 
URL:https://www.fraternityclub.com.au/event/willy-wonkas-high-tea/
LOCATION:The Fraternity Club
CATEGORIES:Entertainment,Events,Holiday Events,Kids School Holiday Events
ATTACH;FMTTYPE=image/jpeg:https://www.fraternityclub.com.au/wp-content/uploads/2025/11/Wonka-High-Tea-2026-Social-Tile-TFC-V2.jpg
END:VEVENT
BEGIN:VEVENT
DTSTART;TZID=UTC:20260116T180000
DTEND;TZID=UTC:20260116T200000
DTSTAMP:20260423T231411
CREATED:20251103T004812Z
LAST-MODIFIED:20251208T024934Z
UID:10002435-1768586400-1768593600@www.fraternityclub.com.au
SUMMARY:Bambini Glow Party
DESCRIPTION:Join us at the Fraternity Club for our next Bambini Glow Disco – now featuring an exciting bright twist! \nPerfect for kids aged 2 to 12\, the Glow Disco is the ultimate night of fun\, colour\, and celebration. \nWatch your little ones light up the dance floor under neon lights as they groove to their favourite tunes. \nMeanwhile\, you can sit back\, relax\, and enjoy a delicious meal from the bistro — or treat yourself to our famous wood-fired pizza. \n  \nKids Tickets: $12 per child \nIncludes entry\, a glow party bag\, and access to all the glowing fun! \nAdults: Free to attend! Please reserve a ticket to help us manage numbers. Children must be supervised at all times. \nAlcohol-Free Event: No alcohol will be served or permitted. \n  \nPlanning a Party?\nMake it extra special with a Glow Party Booking! \nParty Package: $25 per child \nIncludes: \n\n\n\nGlow party bag for each child \n\n\nReserved glow-themed table \n\n\nHot party food \n\n\n\nMinimum: 10 children per party booking. \nYou’re welcome to bring your own birthday cake and decorations (no other outside food permitted). \nTo book a Glow Party: Call (02) 4283 3333 or email admin@fraternityclub.com.au \nWe can’t wait to see your bambini light up the dance floor at our Glow Disco! 🌈 \nBook your Tickets NOW!
URL:https://www.fraternityclub.com.au/event/2106/
CATEGORIES:Disco,Entertainment,Events,Holiday Events,Kids School Holiday Events
ATTACH;FMTTYPE=image/jpeg:https://www.fraternityclub.com.au/wp-content/uploads/2025/11/Glow-Party-Social-tiles-The-Fraternity.jpg
END:VEVENT
BEGIN:VEVENT
DTSTART;TZID=Australia/Sydney:20260117T193000
DTEND;TZID=Australia/Sydney:20260117T233000
DTSTAMP:20260423T231411
CREATED:20260109T004324Z
LAST-MODIFIED:20260109T004419Z
UID:10003441-1768678200-1768692600@www.fraternityclub.com.au
SUMMARY:SATURDAY SOUNDS IN THE SUNKEN LOUNGE
DESCRIPTION:Saturday Sounds in the Sunken Lounge\nGet ready for a night of great music\, good vibes\, and dancing! \nJoin us every Saturday evening in the newly renovated Sunken Lounge for Saturday Sounds — featuring Illawarra’s most loved live bands. \nExperience high-energy hits\, upbeat funk\, and tunes that will have you on your feet all night long. With a rotating lineup of incredible local acts\, each week brings something fresh and exciting. \nSip on your favourite drink\, settle into the lounge’s stylish atmosphere\, and let the rhythm take over — your perfect Saturday night starts here. \nWhere: The Sunken LoungeWhen: Every Saturday from 7:30pmFree entry | All welcome
URL:https://www.fraternityclub.com.au/event/saturday-sounds-in-the-sunken-lounge-11/2026-01-17/
LOCATION:The Fraternity Club
CATEGORIES:Entertainment,Events,Live Music,Weekly Events
ATTACH;FMTTYPE=image/png:https://www.fraternityclub.com.au/wp-content/uploads/2026/01/SAT-SOUNDS-JAN-LINE-UP.png
END:VEVENT
BEGIN:VEVENT
DTSTART;TZID=Australia/Sydney:20260124T193000
DTEND;TZID=Australia/Sydney:20260124T233000
DTSTAMP:20260423T231411
CREATED:20260109T004324Z
LAST-MODIFIED:20260109T004419Z
UID:10003442-1769283000-1769297400@www.fraternityclub.com.au
SUMMARY:SATURDAY SOUNDS IN THE SUNKEN LOUNGE
DESCRIPTION:Saturday Sounds in the Sunken Lounge\nGet ready for a night of great music\, good vibes\, and dancing! \nJoin us every Saturday evening in the newly renovated Sunken Lounge for Saturday Sounds — featuring Illawarra’s most loved live bands. \nExperience high-energy hits\, upbeat funk\, and tunes that will have you on your feet all night long. With a rotating lineup of incredible local acts\, each week brings something fresh and exciting. \nSip on your favourite drink\, settle into the lounge’s stylish atmosphere\, and let the rhythm take over — your perfect Saturday night starts here. \nWhere: The Sunken LoungeWhen: Every Saturday from 7:30pmFree entry | All welcome
URL:https://www.fraternityclub.com.au/event/saturday-sounds-in-the-sunken-lounge-11/2026-01-24/
LOCATION:The Fraternity Club
CATEGORIES:Entertainment,Events,Live Music,Weekly Events
ATTACH;FMTTYPE=image/png:https://www.fraternityclub.com.au/wp-content/uploads/2026/01/SAT-SOUNDS-JAN-LINE-UP.png
END:VEVENT
BEGIN:VEVENT
DTSTART;TZID=Australia/Sydney:20260131T193000
DTEND;TZID=Australia/Sydney:20260131T233000
DTSTAMP:20260423T231411
CREATED:20260109T004324Z
LAST-MODIFIED:20260109T004419Z
UID:10003443-1769887800-1769902200@www.fraternityclub.com.au
SUMMARY:SATURDAY SOUNDS IN THE SUNKEN LOUNGE
DESCRIPTION:Saturday Sounds in the Sunken Lounge\nGet ready for a night of great music\, good vibes\, and dancing! \nJoin us every Saturday evening in the newly renovated Sunken Lounge for Saturday Sounds — featuring Illawarra’s most loved live bands. \nExperience high-energy hits\, upbeat funk\, and tunes that will have you on your feet all night long. With a rotating lineup of incredible local acts\, each week brings something fresh and exciting. \nSip on your favourite drink\, settle into the lounge’s stylish atmosphere\, and let the rhythm take over — your perfect Saturday night starts here. \nWhere: The Sunken LoungeWhen: Every Saturday from 7:30pmFree entry | All welcome
URL:https://www.fraternityclub.com.au/event/saturday-sounds-in-the-sunken-lounge-11/2026-01-31/
LOCATION:The Fraternity Club
CATEGORIES:Entertainment,Events,Live Music,Weekly Events
ATTACH;FMTTYPE=image/png:https://www.fraternityclub.com.au/wp-content/uploads/2026/01/SAT-SOUNDS-JAN-LINE-UP.png
END:VEVENT
END:VCALENDAR