BEGIN:VCALENDAR
VERSION:2.0
PRODID:-//Fraternity Club - ECPv6.15.12.2//NONSGML v1.0//EN
CALSCALE:GREGORIAN
METHOD:PUBLISH
X-WR-CALNAME:Fraternity Club
X-ORIGINAL-URL:https://www.fraternityclub.com.au
X-WR-CALDESC:Events for Fraternity Club
REFRESH-INTERVAL;VALUE=DURATION:PT1H
X-Robots-Tag:noindex
X-PUBLISHED-TTL:PT1H
BEGIN:VTIMEZONE
TZID:Australia/Sydney
BEGIN:STANDARD
TZOFFSETFROM:+1100
TZOFFSETTO:+1000
TZNAME:AEST
DTSTART:20240406T160000
END:STANDARD
BEGIN:DAYLIGHT
TZOFFSETFROM:+1000
TZOFFSETTO:+1100
TZNAME:AEDT
DTSTART:20241005T160000
END:DAYLIGHT
BEGIN:STANDARD
TZOFFSETFROM:+1100
TZOFFSETTO:+1000
TZNAME:AEST
DTSTART:20250405T160000
END:STANDARD
BEGIN:DAYLIGHT
TZOFFSETFROM:+1000
TZOFFSETTO:+1100
TZNAME:AEDT
DTSTART:20251004T160000
END:DAYLIGHT
BEGIN:STANDARD
TZOFFSETFROM:+1100
TZOFFSETTO:+1000
TZNAME:AEST
DTSTART:20260404T160000
END:STANDARD
BEGIN:DAYLIGHT
TZOFFSETFROM:+1000
TZOFFSETTO:+1100
TZNAME:AEDT
DTSTART:20261003T160000
END:DAYLIGHT
BEGIN:STANDARD
TZOFFSETFROM:+1100
TZOFFSETTO:+1000
TZNAME:AEST
DTSTART:20270403T160000
END:STANDARD
BEGIN:DAYLIGHT
TZOFFSETFROM:+1000
TZOFFSETTO:+1100
TZNAME:AEDT
DTSTART:20271002T160000
END:DAYLIGHT
END:VTIMEZONE
BEGIN:VTIMEZONE
TZID:UTC
BEGIN:STANDARD
TZOFFSETFROM:+0000
TZOFFSETTO:+0000
TZNAME:UTC
DTSTART:20240101T000000
END:STANDARD
END:VTIMEZONE
BEGIN:VEVENT
DTSTART;TZID=Australia/Sydney:20251205T193000
DTEND;TZID=Australia/Sydney:20251205T203000
DTSTAMP:20260424T004824
CREATED:20250912T052116Z
LAST-MODIFIED:20251208T024936Z
UID:10002124-1764963000-1764966600@www.fraternityclub.com.au
SUMMARY:Christmas Feast Raffles - Friday Nights
DESCRIPTION:Get ready to celebrate the festive season in style at The Fraternity Club’s Christmas Feast Raffles! \n📅 Every Friday⏰ Draws from 7:30PM \nLet us take care of your festive feast this year with an incredible selection of Christmas hams\, Seafood + Fresh Veggie vouchers\, plus all the trimmings to make your holiday celebrations extra special. \nWhy join the fun? \nWin delicious festive favourites to share with family and friends. \nEnjoy the club’s vibrant atmosphere while trying your luck. \nKick off the weekend with food\, fun\, and festive cheer! \nBring your family and friends\, grab a ticket\, and be part of the excitement. The Christmas Feast Raffles are the perfect way to get into the holiday spirit! \nGet the APP-vantage \nScore free raffle tickets when you download the Fraternity Club App!Download the App here
URL:https://www.fraternityclub.com.au/event/christmas-feast-raffles-friday-nights/2025-12-05/
LOCATION:The Fraternity Club
CATEGORIES:Community,Entertainment,Events,Family,Holiday Events,Raffle
ATTACH;FMTTYPE=image/jpeg:https://www.fraternityclub.com.au/wp-content/uploads/2025/09/Christmas-Feast-Raffles-Event-Square-Fraternity.jpg
END:VEVENT
BEGIN:VEVENT
DTSTART;TZID=Australia/Sydney:20251206T110000
DTEND;TZID=Australia/Sydney:20251206T140000
DTSTAMP:20260424T004824
CREATED:20250912T035837Z
LAST-MODIFIED:20251208T024936Z
UID:10002119-1765018800-1765029600@www.fraternityclub.com.au
SUMMARY:Fraternity Festive Fun Day
DESCRIPTION:This Christmas\, The Frat is where it’s at! Join us for a magical day of festive cheer at the Fraternity Club Festive Fun Day. Bring the whole family along and enjoy a variety of exciting activities designed to capture the spirit of the season. \nWhat’s On:\n\n\nFree Face Painting – Perfect for kids to show off their Christmas spirit. \n\n\nNativity Scene & Farm Animals – A heartwarming experience for all ages. \n\n\nLive Music – Soak in the festive atmosphere with seasonal tunes. \n\n\nChristmas Craft Corner – A creative space for children to make and take home their own Christmas keepsakes. \n\n\nPhoto Opportunity with Santa – Capture a magical memory with the big man himself. \n\n\nAnd don’t head home just yet… \nFinish the Day with Our MEGA Toy Raffle\nAt 2:00pm\, we’ll be wrapping up the festivities with our MEGA Toy Raffle. With incredible prizes to be won\, it’s the perfect way to top off an unforgettable family day out. \nTickets for our Mega Toy Raffle will be on sale from November 29. Buy your tickets early—every ticket boosts your chances to bag the toys. \nWant even more chances to win?Get an App-vantage and score free raffle tickets just by downloading the Fraternity Club App!Download the App here \n 
URL:https://www.fraternityclub.com.au/event/fraternity-festive-fun-day-saturday-6th-december/
LOCATION:The Fraternity Club
CATEGORIES:Entertainment,Events,Family,Holiday Events,Live Music,Special Occasion,Yearly Event
ATTACH;FMTTYPE=image/jpeg:https://www.fraternityclub.com.au/wp-content/uploads/2025/09/Festive-Fun-Day-Event-Square-The-Fraternity-Club.jpg
END:VEVENT
BEGIN:VEVENT
DTSTART;TZID=Australia/Sydney:20251206T140000
DTEND;TZID=Australia/Sydney:20251206T153000
DTSTAMP:20260424T004824
CREATED:20250912T040406Z
LAST-MODIFIED:20251208T024936Z
UID:10002120-1765029600-1765035000@www.fraternityclub.com.au
SUMMARY:MEGA TOY RAFFLE
DESCRIPTION:After our Festive Fun Day\, the celebrations continue with the Fraternity Club MEGA Toy Raffle! Don’t miss your chance to win a share of $10\,000 worth of amazing toys – just in time for the festive season. \nRaffle Details\n\n\nDate: Saturday\, December 6\, 2025 \n\n\nTime: 2:00pm (right after our Festive Fun Day) \n\n\nPrizes: A massive $10\,000 worth of toys to be won\, including gaming consoles\, bikes\, and just about everything a young boy or girl could want this Christmas. \n\n\nTickets\n\n\nTickets go on sale from November 29\, 2025. \n\n\nBuy your tickets early – every ticket boosts your chances to bag some of these incredible prizes. \n\n\nGet an APP-vantage\nScore free raffle tickets when you download the Fraternity Club App!Download the App here \nMake this Christmas extra special – join us for our MEGA Toy Raffle and take home the gifts of the season! \n 
URL:https://www.fraternityclub.com.au/event/fraternity-festive-fun-day-saturday-6th-december-2/
LOCATION:The Fraternity Club
CATEGORIES:Entertainment,Events,Family,Holiday Events,Live Music,Special Occasion,Yearly Event
ATTACH;FMTTYPE=image/jpeg:https://www.fraternityclub.com.au/wp-content/uploads/2025/09/Mega-Toy-Raffle-Event-Square-The-Fraternity-Club.jpg
END:VEVENT
BEGIN:VEVENT
DTSTART;TZID=Australia/Sydney:20251207T120000
DTEND;TZID=Australia/Sydney:20251207T170000
DTSTAMP:20260424T004824
CREATED:20250912T045337Z
LAST-MODIFIED:20251208T024936Z
UID:10002121-1765108800-1765126800@www.fraternityclub.com.au
SUMMARY:Fraternity Members & Community Christmas Luncheon
DESCRIPTION:Indulge in the warmth of tradition and community spirit at this year’s Fraternity Members & Community Christmas Luncheon. \nFormerly known as the Italian Association Christmas Luncheon\, this cherished event brings together members\, families\, and friends for an afternoon filled with festive joy. \nGuests will enjoy a delicious three-course alternate menu\, live entertainment by Mixed Groove\, and the excitement of lucky door prizes. With great food\, wonderful music\, and a vibrant atmosphere\, it’s the perfect way to celebrate the season together. \n  \nTickets: \nAdults: $65 \nChildren (under 12): $30 \nJoin us for an unforgettable Christmas celebration where tradition meets community\, and festive memories are made. \n  \nTickets can be purchased online or at reception. \nTables can accommodate up to 10 guests\, so we encourage you to organise your group in advance. \nSecure your tickets now!
URL:https://www.fraternityclub.com.au/event/2003/
LOCATION:The Fraternity Club
CATEGORIES:Entertainment,Events,Holiday Events,Special Occasion,Yearly Event
ATTACH;FMTTYPE=image/jpeg:https://www.fraternityclub.com.au/wp-content/uploads/2025/09/Fraternity-Members-Event-Square-The-Fraternity.jpg
END:VEVENT
BEGIN:VEVENT
DTSTART;TZID=Australia/Sydney:20251210T103000
DTEND;TZID=Australia/Sydney:20251210T140000
DTSTAMP:20260424T004824
CREATED:20250810T235819Z
LAST-MODIFIED:20251208T024936Z
UID:10002067-1765362600-1765375200@www.fraternityclub.com.au
SUMMARY:Christmas Morning Melodies starring Terry Leonard
DESCRIPTION:Celebrate the magic of Christmas with a sunny twist of rock ’n’ roll nostalgia! Join us at The Fraternity Club on Wednesday 10 December for a festive edition of our popular Morning Melodies. \nDoors open at 10:30 am\, with the show swinging off from 11am. \nA delicious roast lunch is included as part of the celebration. \nTerry Leonard\, a seasoned entertainer and acclaimed Elvis tribute artist\, will bring festive favourites and golden oldies to life\, adding a touch of The King’s charisma to your Christmas celebrations. \nBook your tickets NOW!
URL:https://www.fraternityclub.com.au/event/christmas-morning-melodies-starring-terry-leonard-wednesday-10th-december/
CATEGORIES:Dinner & Show,Entertainment,Events,Holiday Events,Live Music,Special Occasion
ATTACH;FMTTYPE=image/png:https://www.fraternityclub.com.au/wp-content/uploads/2025/08/Morning-Melodies-christmas-Instagram-Post.png
END:VEVENT
BEGIN:VEVENT
DTSTART;TZID=Australia/Sydney:20251212T193000
DTEND;TZID=Australia/Sydney:20251212T203000
DTSTAMP:20260424T004824
CREATED:20250912T052116Z
LAST-MODIFIED:20251208T024936Z
UID:10002125-1765567800-1765571400@www.fraternityclub.com.au
SUMMARY:Christmas Feast Raffles - Friday Nights
DESCRIPTION:Get ready to celebrate the festive season in style at The Fraternity Club’s Christmas Feast Raffles! \n📅 Every Friday⏰ Draws from 7:30PM \nLet us take care of your festive feast this year with an incredible selection of Christmas hams\, Seafood + Fresh Veggie vouchers\, plus all the trimmings to make your holiday celebrations extra special. \nWhy join the fun? \nWin delicious festive favourites to share with family and friends. \nEnjoy the club’s vibrant atmosphere while trying your luck. \nKick off the weekend with food\, fun\, and festive cheer! \nBring your family and friends\, grab a ticket\, and be part of the excitement. The Christmas Feast Raffles are the perfect way to get into the holiday spirit! \nGet the APP-vantage \nScore free raffle tickets when you download the Fraternity Club App!Download the App here
URL:https://www.fraternityclub.com.au/event/christmas-feast-raffles-friday-nights/2025-12-12/
LOCATION:The Fraternity Club
CATEGORIES:Community,Entertainment,Events,Family,Holiday Events,Raffle
ATTACH;FMTTYPE=image/jpeg:https://www.fraternityclub.com.au/wp-content/uploads/2025/09/Christmas-Feast-Raffles-Event-Square-Fraternity.jpg
END:VEVENT
BEGIN:VEVENT
DTSTART;TZID=Australia/Sydney:20251216T190000
DTEND;TZID=Australia/Sydney:20251216T210000
DTSTAMP:20260424T004824
CREATED:20250912T051104Z
LAST-MODIFIED:20251211T030852Z
UID:10002122-1765911600-1765918800@www.fraternityclub.com.au
SUMMARY:CHRISTMAS GIVING TREE
DESCRIPTION:This festive season\, the Fraternity Club is proud to support disadvantaged youth in the Illawarra through our Christmas Giving Tree. \nIn partnership with Southern Youth and Family Services\, we’re collecting gifts for children and young people in need. Your generosity will help bring joy and hope to local families who may otherwise go without this Christmas. \nHow You Can Help\nBring a new\, unwrapped gift to reception anytime.We’ll be officially accepting donations from Friday\, 28 November through to Tuesday\, 16 December — but if you’d like to drop off gifts earlier\, we’ll gladly take them. \nTogether\, let’s make a difference in our community and share the true spirit of Christmas!
URL:https://www.fraternityclub.com.au/event/christmas-giving-tree-donations-close-thursday-11th-december/
LOCATION:The Fraternity Club
CATEGORIES:Community,Entertainment,Events,Family,Holiday Events
ATTACH;FMTTYPE=image/jpeg:https://www.fraternityclub.com.au/wp-content/uploads/2025/09/Giving-Tree-Social-Square-The-Fraternity-Club.jpg
END:VEVENT
BEGIN:VEVENT
DTSTART;TZID=Australia/Sydney:20251219T180000
DTEND;TZID=Australia/Sydney:20251219T200000
DTSTAMP:20260424T004824
CREATED:20251031T042902Z
LAST-MODIFIED:20251208T024936Z
UID:10002429-1766167200-1766174400@www.fraternityclub.com.au
SUMMARY:Christmas Bambini Disco – Let’s Jingle and Dance!
DESCRIPTION:It’s time for some festive fun! Perfect for kids aged 2 to 12\, our Christmas Bambini Disco is back — filled with music\, laughter\, and magical holiday energy. \nWatch your little ones groove to their favourite tunes while you relax and enjoy a delicious meal from the bistro or our famous wood-fired pizza. \nEvent Details: \n\n\n\nKids Tickets: $12 per child – includes entry and a party bag \n\n\nAdults: Free to attend! Please reserve a ticket to help us manage numbers. Children must be supervised at all times \n\n\nAlcohol-Free Event: No alcohol will be served or permitted \n\n\n\nWe can’t wait to see your bambini dancing along to their favourite hits! \nClick to purchase tickets! \nPlanning a Party? \nMake it extra special with a party booking! \nParty Package: $25 per child \nIncludes: \n\n\n\nA party bag for each child \n\n\nReserved disco-themed table \n\n\nHot party food \n\n\n\nMinimum of 10 children per party booking. You’re welcome to bring your own birthday cake and decorations (no other outside food permitted). \nTo book a party\, contact Club Reception: (02) 4283 3333 or admin@fraternityclub.com.au \n 
URL:https://www.fraternityclub.com.au/event/bambini-disco-disney-dance-party-2/
CATEGORIES:Disco,Entertainment,Events,Family,Holiday Events,Kids School Holiday Events
ATTACH;FMTTYPE=image/png:https://www.fraternityclub.com.au/wp-content/uploads/2025/10/square.png
END:VEVENT
BEGIN:VEVENT
DTSTART;TZID=Australia/Sydney:20251219T193000
DTEND;TZID=Australia/Sydney:20251219T203000
DTSTAMP:20260424T004824
CREATED:20250912T052116Z
LAST-MODIFIED:20251208T024936Z
UID:10002126-1766172600-1766176200@www.fraternityclub.com.au
SUMMARY:Christmas Feast Raffles - Friday Nights
DESCRIPTION:Get ready to celebrate the festive season in style at The Fraternity Club’s Christmas Feast Raffles! \n📅 Every Friday⏰ Draws from 7:30PM \nLet us take care of your festive feast this year with an incredible selection of Christmas hams\, Seafood + Fresh Veggie vouchers\, plus all the trimmings to make your holiday celebrations extra special. \nWhy join the fun? \nWin delicious festive favourites to share with family and friends. \nEnjoy the club’s vibrant atmosphere while trying your luck. \nKick off the weekend with food\, fun\, and festive cheer! \nBring your family and friends\, grab a ticket\, and be part of the excitement. The Christmas Feast Raffles are the perfect way to get into the holiday spirit! \nGet the APP-vantage \nScore free raffle tickets when you download the Fraternity Club App!Download the App here
URL:https://www.fraternityclub.com.au/event/christmas-feast-raffles-friday-nights/2025-12-19/
LOCATION:The Fraternity Club
CATEGORIES:Community,Entertainment,Events,Family,Holiday Events,Raffle
ATTACH;FMTTYPE=image/jpeg:https://www.fraternityclub.com.au/wp-content/uploads/2025/09/Christmas-Feast-Raffles-Event-Square-Fraternity.jpg
END:VEVENT
BEGIN:VEVENT
DTSTART;TZID=Australia/Sydney:20251220T193000
DTEND;TZID=Australia/Sydney:20251220T233000
DTSTAMP:20260424T004824
CREATED:20251219T065241Z
LAST-MODIFIED:20251219T065356Z
UID:10003159-1766259000-1766273400@www.fraternityclub.com.au
SUMMARY:Saturday Sounds in the Sunken Lounge
DESCRIPTION:  \nSaturday Sounds in the Sunken Lounge\nGet ready for a night of great music\, good vibes\, and dancing! \nJoin us every Saturday evening in the newly renovated Sunken Lounge for Saturday Sounds — featuring Illawarra’s most loved live bands. \nExperience high-energy hits\, upbeat funk\, and tunes that will have you on your feet all night long. With a rotating lineup of incredible local acts\, each week brings something fresh and exciting. \nSip on your favourite drink\, settle into the lounge’s stylish atmosphere\, and let the rhythm take over — your perfect Saturday night starts here. \nWhere: The Sunken LoungeWhen: Every Saturday from 7:30pmFree entry | All welcome
URL:https://www.fraternityclub.com.au/event/saturday-sounds-in-the-sunken-lounge-9/
CATEGORIES:Entertainment,Events,Live Music
ATTACH;FMTTYPE=image/png:https://www.fraternityclub.com.au/wp-content/uploads/2025/12/mixed-groove-drums-sat-sounds-.png
END:VEVENT
BEGIN:VEVENT
DTSTART;TZID=Australia/Sydney:20251220T193000
DTEND;TZID=Australia/Sydney:20251220T233000
DTSTAMP:20260424T004824
CREATED:20260109T000650Z
LAST-MODIFIED:20260109T002143Z
UID:10003171-1766259000-1766273400@www.fraternityclub.com.au
SUMMARY:Saturday Sounds in the Sunken Lounge
DESCRIPTION:  \nSaturday Sounds in the Sunken Lounge\nGet ready for a night of great music\, good vibes\, and dancing! \nJoin us every Saturday evening in the newly renovated Sunken Lounge for Saturday Sounds — featuring Illawarra’s most loved live bands. \nExperience high-energy hits\, upbeat funk\, and tunes that will have you on your feet all night long. With a rotating lineup of incredible local acts\, each week brings something fresh and exciting. \nSip on your favourite drink\, settle into the lounge’s stylish atmosphere\, and let the rhythm take over — your perfect Saturday night starts here. \nWhere: The Sunken LoungeWhen: Every Saturday from 7:30pmFree entry | All welcome
URL:https://www.fraternityclub.com.au/event/saturday-sounds-in-the-sunken-lounge-10/
LOCATION:The Fraternity Club
CATEGORIES:Entertainment,Events,Live Music
ATTACH;FMTTYPE=image/png:https://www.fraternityclub.com.au/wp-content/uploads/2026/01/SAT-SOUNDS-JAN-LINE-UP.png
END:VEVENT
BEGIN:VEVENT
DTSTART;TZID=UTC:20251222T113000
DTEND;TZID=UTC:20251222T123000
DTSTAMP:20260424T004824
CREATED:20251031T044025Z
LAST-MODIFIED:20251208T024936Z
UID:10002430-1766403000-1766406600@www.fraternityclub.com.au
SUMMARY:CHRISTMAS SQUISHMALLOW BINGO
DESCRIPTION:The Frat is where the Christmas Fun is at these School Holidays!! \nJoin us for Kid’s Bingo\, Fun and Games\, where Everyone is a WINNER! \nRecommended for children aged 4 years – 12 years. \nBe quick tickets are limited. \nClick for Tickets!
URL:https://www.fraternityclub.com.au/event/christmas-squishmallow-bingo/
CATEGORIES:Entertainment,Events,Holiday Events,Kids School Holiday Events,Special Occasion
ATTACH;FMTTYPE=image/jpeg:https://www.fraternityclub.com.au/wp-content/uploads/2025/10/Kids-Bingo-Social-tile-The-Fraternity-Club-V4.jpg
END:VEVENT
BEGIN:VEVENT
DTSTART;TZID=Australia/Sydney:20251225T113000
DTEND;TZID=Australia/Sydney:20251225T153000
DTSTAMP:20260424T004824
CREATED:20250910T233831Z
LAST-MODIFIED:20251208T024935Z
UID:10002116-1766662200-1766676600@www.fraternityclub.com.au
SUMMARY:Christmas Buffet Grand Ballroom
DESCRIPTION:Celebrate the joy of Christmas with family and friends at our festive Christmas Lunch Buffet. \nBookings are essential\, and spots are strictly limited – secure your table early! \nPricing \n\n$130 Adults \n$55 Children (5–12 years) \n$25 Children (under 5 years) \n\nPlease advise us at the time of booking if you would like to be seated together. \nOur Christmas Buffet features a delicious and abundant spread including: \n\nFresh hot & cold seafood \nTraditional carvery \nPasta dishes \nCold cuts & hot dishes \nSeasonal salads \nDecadent desserts \nLet us take care of the cooking while you enjoy a memorable Christmas Day filled with food\, family\, and festive fun at The Fraternity Club. \nBook your tickets now ! 
URL:https://www.fraternityclub.com.au/event/christmas-buffet-grand-ballroom-2025/
CATEGORIES:Entertainment,Events,Holiday Events,Special Occasion,Yearly Event
ATTACH;FMTTYPE=image/jpeg:https://www.fraternityclub.com.au/wp-content/uploads/2025/09/Christmas-Lunch-Buffet-Event-Square-The-Fraternity-Club.jpg
END:VEVENT
BEGIN:VEVENT
DTSTART;TZID=Australia/Sydney:20251225T113000
DTEND;TZID=Australia/Sydney:20251225T153000
DTSTAMP:20260424T004824
CREATED:20250910T235613Z
LAST-MODIFIED:20251208T024935Z
UID:10002117-1766662200-1766676600@www.fraternityclub.com.au
SUMMARY:Christmas Buffet La Trattoria
DESCRIPTION:Celebrate the joy of Christmas with family and friends at our festive Christmas Lunch Buffet. \nBookings are essential\, and spots are strictly limited – secure your table early! \nPricing \n\n$130 Adults \n$55 Children (5–12 years) \n$25 Children (under 5 years) \n\nPlease advise us at the time of booking if you would like to be seated together. \nOur Christmas Buffet features a delicious and abundant spread including: \n\nFresh hot & cold seafood \nTraditional carvery \nPasta dishes \nCold cuts & hot dishes \nSeasonal salads \nDecadent desserts \nLet us take care of the cooking while you enjoy a memorable Christmas Day filled with food\, family\, and festive fun at The Fraternity Club. \nBook your tickets now ! 
URL:https://www.fraternityclub.com.au/event/christmas-buffet-thursday-25th-december-la-trattoria-2025/
CATEGORIES:Entertainment,Events,Holiday Events,Special Occasion,Yearly Event
ATTACH;FMTTYPE=image/jpeg:https://www.fraternityclub.com.au/wp-content/uploads/2025/09/Christmas-Lunch-Buffet-Event-Square-The-Fraternity-Club.jpg
END:VEVENT
BEGIN:VEVENT
DTSTART;TZID=Australia/Sydney:20251231T190000
DTEND;TZID=Australia/Sydney:20260101T000000
DTSTAMP:20260424T004824
CREATED:20251007T000932Z
LAST-MODIFIED:20251208T024935Z
UID:10002417-1767207600-1767225600@www.fraternityclub.com.au
SUMMARY:All That Glitters New Years Eve Ball 2025
DESCRIPTION:Dress to dazzle for a glamorous night in our Grand Ballroom as we count down to 2026. \nEnjoy live music by Control from 7:30pm\, stunning roaming performers\, and a premium dining & drinks experience all night. \nYour ticket includes \n\nSignature cocktail on arrival\n3‑course alternate‑drop menu\n5‑hour premium beverage package\nLive band Control + roaming performers throughout the night\n\nTickets \n\n$120 Adults\n$60 Teens (13–17)\n$25 Children (under 12)\n\nBookings essential — limited tickets. Purchase via reception or online. \nRing in 2026 with Style\, Sound & Sparkle! \n  \nDress code: Cocktail / black‑tie encouraged (glitter welcome!) \nSeating: Allocated tables. Groups welcome! \nImportant Information \n\nAny special dietary requirements can be catered for but must be advised prior to the event. \nFor group bookings\, please note this in your booking that you’d like to be seated together and we’ll do our best to accommodate. \nThe Fraternity Club practices the responsible service of alcohol.
URL:https://www.fraternityclub.com.au/event/all-that-glitters-new-years-eve-ball-2025/
CATEGORIES:Entertainment,Events,Holiday Events,Special Occasion,Yearly Event
ATTACH;FMTTYPE=image/jpeg:https://www.fraternityclub.com.au/wp-content/uploads/2025/10/New-Years-Eve-Soc-tile-The-Fraternity-Club-V4.jpg
END:VEVENT
BEGIN:VEVENT
DTSTART;TZID=Australia/Sydney:20251231T190000
DTEND;TZID=Australia/Sydney:20260101T000000
DTSTAMP:20260424T004824
CREATED:20251008T044020Z
LAST-MODIFIED:20251208T024935Z
UID:10002418-1767207600-1767225600@www.fraternityclub.com.au
SUMMARY:NYE 2025 – Party in the Sunken Lounge with Mixed Groove
DESCRIPTION:Ring in 2026 at The Fraternity Club with a night full of fun\, music\, and celebration! \nJoin us in the Sunken Lounge for a spectacular New Year’s Eve party featuring live entertainment\, great company\, and a vibrant atmosphere. \n  \nLive Band: Mixed Groove\nDance your way into the new year with Mixed Groove\, one of the Illawarra’s most loved live bands. Get ready for high-energy hits and the groove you love all night long. \nDoors and Bar Open: 7:00pm \nLive Music From 8:30pm till Late \nTickets: $20 per person \nAvailable from Reception or online – secure your spot now before it sells out. \n\nCountdown to 2026 in style! Celebrate the biggest night of the year with friends\, great music\, and an unforgettable vibe at The Fraternity Club.
URL:https://www.fraternityclub.com.au/event/nye-2025-party-in-the-sunken-lounge-with-mixed-groove/
CATEGORIES:Entertainment,Events,Holiday Events,Special Occasion,Yearly Event
ATTACH;FMTTYPE=image/jpeg:https://www.fraternityclub.com.au/wp-content/uploads/2025/10/Sunken-Lounge-Event-Square-The-Fraternity.jpg
END:VEVENT
END:VCALENDAR